BEGIN:VCALENDAR
VERSION:2.0
PRODID:-//Queens&#039; Marketplace - ECPv6.15.15//NONSGML v1.0//EN
CALSCALE:GREGORIAN
METHOD:PUBLISH
X-ORIGINAL-URL:https://www.queensmarketplace.com
X-WR-CALDESC:Events for Queens&#039; Marketplace
REFRESH-INTERVAL;VALUE=DURATION:PT1H
X-Robots-Tag:noindex
X-PUBLISHED-TTL:PT1H
BEGIN:VTIMEZONE
TZID:Pacific/Honolulu
BEGIN:STANDARD
TZOFFSETFROM:-1000
TZOFFSETTO:-1000
TZNAME:HST
DTSTART:20270101T000000
END:STANDARD
END:VTIMEZONE
BEGIN:VEVENT
DTSTART;TZID=Pacific/Honolulu:20280117T180000
DTEND;TZID=Pacific/Honolulu:20280117T190000
DTSTAMP:20260421T092355
CREATED:20251201T213340Z
LAST-MODIFIED:20251201T213340Z
UID:10003276-1831744800-1831748400@www.queensmarketplace.com
SUMMARY:Hula Show
DESCRIPTION:Enjoy a beautiful free performance at the Coronation Pavilion\, featuring both kahiko (traditional) and modern hula. Hula narrates Hawaii’s story through the graceful movements of skilled dancers. Experience this intricate ancient art of dance and chant up close and personal in a comfortable outdoor setting. \nMondays | 6 PM | Coronation Pavilion
URL:https://www.queensmarketplace.com/event/hula-show-2-2-2/2028-01-17/
ATTACH;FMTTYPE=image/jpeg:https://www.queensmarketplace.com/wp-content/uploads/SPStudio_0039.jpg
END:VEVENT
BEGIN:VEVENT
DTSTART;TZID=Pacific/Honolulu:20280124T180000
DTEND;TZID=Pacific/Honolulu:20280124T190000
DTSTAMP:20260421T092355
CREATED:20251201T213340Z
LAST-MODIFIED:20251201T213340Z
UID:10003277-1832349600-1832353200@www.queensmarketplace.com
SUMMARY:Hula Show
DESCRIPTION:Enjoy a beautiful free performance at the Coronation Pavilion\, featuring both kahiko (traditional) and modern hula. Hula narrates Hawaii’s story through the graceful movements of skilled dancers. Experience this intricate ancient art of dance and chant up close and personal in a comfortable outdoor setting. \nMondays | 6 PM | Coronation Pavilion
URL:https://www.queensmarketplace.com/event/hula-show-2-2-2/2028-01-24/
ATTACH;FMTTYPE=image/jpeg:https://www.queensmarketplace.com/wp-content/uploads/SPStudio_0039.jpg
END:VEVENT
BEGIN:VEVENT
DTSTART;TZID=Pacific/Honolulu:20280131T180000
DTEND;TZID=Pacific/Honolulu:20280131T190000
DTSTAMP:20260421T092355
CREATED:20251201T213340Z
LAST-MODIFIED:20251201T213340Z
UID:10003278-1832954400-1832958000@www.queensmarketplace.com
SUMMARY:Hula Show
DESCRIPTION:Enjoy a beautiful free performance at the Coronation Pavilion\, featuring both kahiko (traditional) and modern hula. Hula narrates Hawaii’s story through the graceful movements of skilled dancers. Experience this intricate ancient art of dance and chant up close and personal in a comfortable outdoor setting. \nMondays | 6 PM | Coronation Pavilion
URL:https://www.queensmarketplace.com/event/hula-show-2-2-2/2028-01-31/
ATTACH;FMTTYPE=image/jpeg:https://www.queensmarketplace.com/wp-content/uploads/SPStudio_0039.jpg
END:VEVENT
BEGIN:VEVENT
DTSTART;TZID=Pacific/Honolulu:20280207T180000
DTEND;TZID=Pacific/Honolulu:20280207T190000
DTSTAMP:20260421T092355
CREATED:20251201T213340Z
LAST-MODIFIED:20251201T213340Z
UID:10003279-1833559200-1833562800@www.queensmarketplace.com
SUMMARY:Hula Show
DESCRIPTION:Enjoy a beautiful free performance at the Coronation Pavilion\, featuring both kahiko (traditional) and modern hula. Hula narrates Hawaii’s story through the graceful movements of skilled dancers. Experience this intricate ancient art of dance and chant up close and personal in a comfortable outdoor setting. \nMondays | 6 PM | Coronation Pavilion
URL:https://www.queensmarketplace.com/event/hula-show-2-2-2/2028-02-07/
ATTACH;FMTTYPE=image/jpeg:https://www.queensmarketplace.com/wp-content/uploads/SPStudio_0039.jpg
END:VEVENT
BEGIN:VEVENT
DTSTART;TZID=Pacific/Honolulu:20280214T180000
DTEND;TZID=Pacific/Honolulu:20280214T190000
DTSTAMP:20260421T092355
CREATED:20251201T213340Z
LAST-MODIFIED:20251201T213340Z
UID:10003280-1834164000-1834167600@www.queensmarketplace.com
SUMMARY:Hula Show
DESCRIPTION:Enjoy a beautiful free performance at the Coronation Pavilion\, featuring both kahiko (traditional) and modern hula. Hula narrates Hawaii’s story through the graceful movements of skilled dancers. Experience this intricate ancient art of dance and chant up close and personal in a comfortable outdoor setting. \nMondays | 6 PM | Coronation Pavilion
URL:https://www.queensmarketplace.com/event/hula-show-2-2-2/2028-02-14/
ATTACH;FMTTYPE=image/jpeg:https://www.queensmarketplace.com/wp-content/uploads/SPStudio_0039.jpg
END:VEVENT
BEGIN:VEVENT
DTSTART;TZID=Pacific/Honolulu:20280219T180000
DTEND;TZID=Pacific/Honolulu:20280219T200000
DTSTAMP:20260421T092355
CREATED:20231023T203402Z
LAST-MODIFIED:20240129T170756Z
UID:10000578-1834596000-1834603200@www.queensmarketplace.com
SUMMARY:Kanikapila Monthly Concert Series
DESCRIPTION:Discover Hawai‘i Island’s best musical talents at Queens’ Marketplace’s Kanikapila Monthly Concert Series sponsored by KWXX\, every third Saturday of the month. \nEvery Third Saturday of the Month | 6 PM | Coronation Pavilion
URL:https://www.queensmarketplace.com/event/kanikapila-monthly-concert-series/2028-02-19/
ATTACH;FMTTYPE=image/jpeg:https://www.queensmarketplace.com/wp-content/uploads/QMP-Monthly-Concert-Series-generic.jpg
END:VEVENT
BEGIN:VEVENT
DTSTART;TZID=Pacific/Honolulu:20280221T180000
DTEND;TZID=Pacific/Honolulu:20280221T190000
DTSTAMP:20260421T092355
CREATED:20251201T213340Z
LAST-MODIFIED:20251201T213340Z
UID:10003281-1834768800-1834772400@www.queensmarketplace.com
SUMMARY:Hula Show
DESCRIPTION:Enjoy a beautiful free performance at the Coronation Pavilion\, featuring both kahiko (traditional) and modern hula. Hula narrates Hawaii’s story through the graceful movements of skilled dancers. Experience this intricate ancient art of dance and chant up close and personal in a comfortable outdoor setting. \nMondays | 6 PM | Coronation Pavilion
URL:https://www.queensmarketplace.com/event/hula-show-2-2-2/2028-02-21/
ATTACH;FMTTYPE=image/jpeg:https://www.queensmarketplace.com/wp-content/uploads/SPStudio_0039.jpg
END:VEVENT
BEGIN:VEVENT
DTSTART;TZID=Pacific/Honolulu:20280228T180000
DTEND;TZID=Pacific/Honolulu:20280228T190000
DTSTAMP:20260421T092355
CREATED:20251201T213340Z
LAST-MODIFIED:20251201T213340Z
UID:10003282-1835373600-1835377200@www.queensmarketplace.com
SUMMARY:Hula Show
DESCRIPTION:Enjoy a beautiful free performance at the Coronation Pavilion\, featuring both kahiko (traditional) and modern hula. Hula narrates Hawaii’s story through the graceful movements of skilled dancers. Experience this intricate ancient art of dance and chant up close and personal in a comfortable outdoor setting. \nMondays | 6 PM | Coronation Pavilion
URL:https://www.queensmarketplace.com/event/hula-show-2-2-2/2028-02-28/
ATTACH;FMTTYPE=image/jpeg:https://www.queensmarketplace.com/wp-content/uploads/SPStudio_0039.jpg
END:VEVENT
BEGIN:VEVENT
DTSTART;TZID=Pacific/Honolulu:20280306T180000
DTEND;TZID=Pacific/Honolulu:20280306T190000
DTSTAMP:20260421T092355
CREATED:20251201T213340Z
LAST-MODIFIED:20251201T213340Z
UID:10003283-1835978400-1835982000@www.queensmarketplace.com
SUMMARY:Hula Show
DESCRIPTION:Enjoy a beautiful free performance at the Coronation Pavilion\, featuring both kahiko (traditional) and modern hula. Hula narrates Hawaii’s story through the graceful movements of skilled dancers. Experience this intricate ancient art of dance and chant up close and personal in a comfortable outdoor setting. \nMondays | 6 PM | Coronation Pavilion
URL:https://www.queensmarketplace.com/event/hula-show-2-2-2/2028-03-06/
ATTACH;FMTTYPE=image/jpeg:https://www.queensmarketplace.com/wp-content/uploads/SPStudio_0039.jpg
END:VEVENT
BEGIN:VEVENT
DTSTART;TZID=Pacific/Honolulu:20280313T180000
DTEND;TZID=Pacific/Honolulu:20280313T190000
DTSTAMP:20260421T092355
CREATED:20251201T213340Z
LAST-MODIFIED:20251201T213340Z
UID:10003284-1836583200-1836586800@www.queensmarketplace.com
SUMMARY:Hula Show
DESCRIPTION:Enjoy a beautiful free performance at the Coronation Pavilion\, featuring both kahiko (traditional) and modern hula. Hula narrates Hawaii’s story through the graceful movements of skilled dancers. Experience this intricate ancient art of dance and chant up close and personal in a comfortable outdoor setting. \nMondays | 6 PM | Coronation Pavilion
URL:https://www.queensmarketplace.com/event/hula-show-2-2-2/2028-03-13/
ATTACH;FMTTYPE=image/jpeg:https://www.queensmarketplace.com/wp-content/uploads/SPStudio_0039.jpg
END:VEVENT
BEGIN:VEVENT
DTSTART;TZID=Pacific/Honolulu:20280318T180000
DTEND;TZID=Pacific/Honolulu:20280318T200000
DTSTAMP:20260421T092355
CREATED:20231023T203402Z
LAST-MODIFIED:20240129T170756Z
UID:10000579-1837015200-1837022400@www.queensmarketplace.com
SUMMARY:Kanikapila Monthly Concert Series
DESCRIPTION:Discover Hawai‘i Island’s best musical talents at Queens’ Marketplace’s Kanikapila Monthly Concert Series sponsored by KWXX\, every third Saturday of the month. \nEvery Third Saturday of the Month | 6 PM | Coronation Pavilion
URL:https://www.queensmarketplace.com/event/kanikapila-monthly-concert-series/2028-03-18/
ATTACH;FMTTYPE=image/jpeg:https://www.queensmarketplace.com/wp-content/uploads/QMP-Monthly-Concert-Series-generic.jpg
END:VEVENT
BEGIN:VEVENT
DTSTART;TZID=Pacific/Honolulu:20280320T180000
DTEND;TZID=Pacific/Honolulu:20280320T190000
DTSTAMP:20260421T092355
CREATED:20251201T213340Z
LAST-MODIFIED:20251201T213340Z
UID:10003285-1837188000-1837191600@www.queensmarketplace.com
SUMMARY:Hula Show
DESCRIPTION:Enjoy a beautiful free performance at the Coronation Pavilion\, featuring both kahiko (traditional) and modern hula. Hula narrates Hawaii’s story through the graceful movements of skilled dancers. Experience this intricate ancient art of dance and chant up close and personal in a comfortable outdoor setting. \nMondays | 6 PM | Coronation Pavilion
URL:https://www.queensmarketplace.com/event/hula-show-2-2-2/2028-03-20/
ATTACH;FMTTYPE=image/jpeg:https://www.queensmarketplace.com/wp-content/uploads/SPStudio_0039.jpg
END:VEVENT
BEGIN:VEVENT
DTSTART;TZID=Pacific/Honolulu:20280327T180000
DTEND;TZID=Pacific/Honolulu:20280327T190000
DTSTAMP:20260421T092355
CREATED:20251201T213340Z
LAST-MODIFIED:20251201T213340Z
UID:10003286-1837792800-1837796400@www.queensmarketplace.com
SUMMARY:Hula Show
DESCRIPTION:Enjoy a beautiful free performance at the Coronation Pavilion\, featuring both kahiko (traditional) and modern hula. Hula narrates Hawaii’s story through the graceful movements of skilled dancers. Experience this intricate ancient art of dance and chant up close and personal in a comfortable outdoor setting. \nMondays | 6 PM | Coronation Pavilion
URL:https://www.queensmarketplace.com/event/hula-show-2-2-2/2028-03-27/
ATTACH;FMTTYPE=image/jpeg:https://www.queensmarketplace.com/wp-content/uploads/SPStudio_0039.jpg
END:VEVENT
BEGIN:VEVENT
DTSTART;TZID=Pacific/Honolulu:20280403T180000
DTEND;TZID=Pacific/Honolulu:20280403T190000
DTSTAMP:20260421T092355
CREATED:20251201T213340Z
LAST-MODIFIED:20251201T213340Z
UID:10003287-1838397600-1838401200@www.queensmarketplace.com
SUMMARY:Hula Show
DESCRIPTION:Enjoy a beautiful free performance at the Coronation Pavilion\, featuring both kahiko (traditional) and modern hula. Hula narrates Hawaii’s story through the graceful movements of skilled dancers. Experience this intricate ancient art of dance and chant up close and personal in a comfortable outdoor setting. \nMondays | 6 PM | Coronation Pavilion
URL:https://www.queensmarketplace.com/event/hula-show-2-2-2/2028-04-03/
ATTACH;FMTTYPE=image/jpeg:https://www.queensmarketplace.com/wp-content/uploads/SPStudio_0039.jpg
END:VEVENT
BEGIN:VEVENT
DTSTART;TZID=Pacific/Honolulu:20280410T180000
DTEND;TZID=Pacific/Honolulu:20280410T190000
DTSTAMP:20260421T092355
CREATED:20251201T213340Z
LAST-MODIFIED:20251201T213340Z
UID:10003288-1839002400-1839006000@www.queensmarketplace.com
SUMMARY:Hula Show
DESCRIPTION:Enjoy a beautiful free performance at the Coronation Pavilion\, featuring both kahiko (traditional) and modern hula. Hula narrates Hawaii’s story through the graceful movements of skilled dancers. Experience this intricate ancient art of dance and chant up close and personal in a comfortable outdoor setting. \nMondays | 6 PM | Coronation Pavilion
URL:https://www.queensmarketplace.com/event/hula-show-2-2-2/2028-04-10/
ATTACH;FMTTYPE=image/jpeg:https://www.queensmarketplace.com/wp-content/uploads/SPStudio_0039.jpg
END:VEVENT
BEGIN:VEVENT
DTSTART;TZID=Pacific/Honolulu:20280415T180000
DTEND;TZID=Pacific/Honolulu:20280415T200000
DTSTAMP:20260421T092355
CREATED:20231023T203402Z
LAST-MODIFIED:20240129T170756Z
UID:10000580-1839434400-1839441600@www.queensmarketplace.com
SUMMARY:Kanikapila Monthly Concert Series
DESCRIPTION:Discover Hawai‘i Island’s best musical talents at Queens’ Marketplace’s Kanikapila Monthly Concert Series sponsored by KWXX\, every third Saturday of the month. \nEvery Third Saturday of the Month | 6 PM | Coronation Pavilion
URL:https://www.queensmarketplace.com/event/kanikapila-monthly-concert-series/2028-04-15/
ATTACH;FMTTYPE=image/jpeg:https://www.queensmarketplace.com/wp-content/uploads/QMP-Monthly-Concert-Series-generic.jpg
END:VEVENT
BEGIN:VEVENT
DTSTART;TZID=Pacific/Honolulu:20280417T180000
DTEND;TZID=Pacific/Honolulu:20280417T190000
DTSTAMP:20260421T092355
CREATED:20251201T213340Z
LAST-MODIFIED:20251201T213340Z
UID:10003289-1839607200-1839610800@www.queensmarketplace.com
SUMMARY:Hula Show
DESCRIPTION:Enjoy a beautiful free performance at the Coronation Pavilion\, featuring both kahiko (traditional) and modern hula. Hula narrates Hawaii’s story through the graceful movements of skilled dancers. Experience this intricate ancient art of dance and chant up close and personal in a comfortable outdoor setting. \nMondays | 6 PM | Coronation Pavilion
URL:https://www.queensmarketplace.com/event/hula-show-2-2-2/2028-04-17/
ATTACH;FMTTYPE=image/jpeg:https://www.queensmarketplace.com/wp-content/uploads/SPStudio_0039.jpg
END:VEVENT
BEGIN:VEVENT
DTSTART;TZID=Pacific/Honolulu:20280424T180000
DTEND;TZID=Pacific/Honolulu:20280424T190000
DTSTAMP:20260421T092355
CREATED:20251201T213340Z
LAST-MODIFIED:20251201T213340Z
UID:10003290-1840212000-1840215600@www.queensmarketplace.com
SUMMARY:Hula Show
DESCRIPTION:Enjoy a beautiful free performance at the Coronation Pavilion\, featuring both kahiko (traditional) and modern hula. Hula narrates Hawaii’s story through the graceful movements of skilled dancers. Experience this intricate ancient art of dance and chant up close and personal in a comfortable outdoor setting. \nMondays | 6 PM | Coronation Pavilion
URL:https://www.queensmarketplace.com/event/hula-show-2-2-2/2028-04-24/
ATTACH;FMTTYPE=image/jpeg:https://www.queensmarketplace.com/wp-content/uploads/SPStudio_0039.jpg
END:VEVENT
BEGIN:VEVENT
DTSTART;TZID=Pacific/Honolulu:20280501T180000
DTEND;TZID=Pacific/Honolulu:20280501T190000
DTSTAMP:20260421T092355
CREATED:20251201T213340Z
LAST-MODIFIED:20251201T213340Z
UID:10003291-1840816800-1840820400@www.queensmarketplace.com
SUMMARY:Hula Show
DESCRIPTION:Enjoy a beautiful free performance at the Coronation Pavilion\, featuring both kahiko (traditional) and modern hula. Hula narrates Hawaii’s story through the graceful movements of skilled dancers. Experience this intricate ancient art of dance and chant up close and personal in a comfortable outdoor setting. \nMondays | 6 PM | Coronation Pavilion
URL:https://www.queensmarketplace.com/event/hula-show-2-2-2/2028-05-01/
ATTACH;FMTTYPE=image/jpeg:https://www.queensmarketplace.com/wp-content/uploads/SPStudio_0039.jpg
END:VEVENT
BEGIN:VEVENT
DTSTART;TZID=Pacific/Honolulu:20280508T180000
DTEND;TZID=Pacific/Honolulu:20280508T190000
DTSTAMP:20260421T092355
CREATED:20251201T213340Z
LAST-MODIFIED:20251201T213340Z
UID:10003292-1841421600-1841425200@www.queensmarketplace.com
SUMMARY:Hula Show
DESCRIPTION:Enjoy a beautiful free performance at the Coronation Pavilion\, featuring both kahiko (traditional) and modern hula. Hula narrates Hawaii’s story through the graceful movements of skilled dancers. Experience this intricate ancient art of dance and chant up close and personal in a comfortable outdoor setting. \nMondays | 6 PM | Coronation Pavilion
URL:https://www.queensmarketplace.com/event/hula-show-2-2-2/2028-05-08/
ATTACH;FMTTYPE=image/jpeg:https://www.queensmarketplace.com/wp-content/uploads/SPStudio_0039.jpg
END:VEVENT
BEGIN:VEVENT
DTSTART;TZID=Pacific/Honolulu:20280515T180000
DTEND;TZID=Pacific/Honolulu:20280515T190000
DTSTAMP:20260421T092355
CREATED:20251201T213340Z
LAST-MODIFIED:20251201T213340Z
UID:10003293-1842026400-1842030000@www.queensmarketplace.com
SUMMARY:Hula Show
DESCRIPTION:Enjoy a beautiful free performance at the Coronation Pavilion\, featuring both kahiko (traditional) and modern hula. Hula narrates Hawaii’s story through the graceful movements of skilled dancers. Experience this intricate ancient art of dance and chant up close and personal in a comfortable outdoor setting. \nMondays | 6 PM | Coronation Pavilion
URL:https://www.queensmarketplace.com/event/hula-show-2-2-2/2028-05-15/
ATTACH;FMTTYPE=image/jpeg:https://www.queensmarketplace.com/wp-content/uploads/SPStudio_0039.jpg
END:VEVENT
BEGIN:VEVENT
DTSTART;TZID=Pacific/Honolulu:20280520T180000
DTEND;TZID=Pacific/Honolulu:20280520T200000
DTSTAMP:20260421T092355
CREATED:20231023T203402Z
LAST-MODIFIED:20240129T170756Z
UID:10000581-1842458400-1842465600@www.queensmarketplace.com
SUMMARY:Kanikapila Monthly Concert Series
DESCRIPTION:Discover Hawai‘i Island’s best musical talents at Queens’ Marketplace’s Kanikapila Monthly Concert Series sponsored by KWXX\, every third Saturday of the month. \nEvery Third Saturday of the Month | 6 PM | Coronation Pavilion
URL:https://www.queensmarketplace.com/event/kanikapila-monthly-concert-series/2028-05-20/
ATTACH;FMTTYPE=image/jpeg:https://www.queensmarketplace.com/wp-content/uploads/QMP-Monthly-Concert-Series-generic.jpg
END:VEVENT
BEGIN:VEVENT
DTSTART;TZID=Pacific/Honolulu:20280522T180000
DTEND;TZID=Pacific/Honolulu:20280522T190000
DTSTAMP:20260421T092355
CREATED:20251201T213340Z
LAST-MODIFIED:20251201T213340Z
UID:10003294-1842631200-1842634800@www.queensmarketplace.com
SUMMARY:Hula Show
DESCRIPTION:Enjoy a beautiful free performance at the Coronation Pavilion\, featuring both kahiko (traditional) and modern hula. Hula narrates Hawaii’s story through the graceful movements of skilled dancers. Experience this intricate ancient art of dance and chant up close and personal in a comfortable outdoor setting. \nMondays | 6 PM | Coronation Pavilion
URL:https://www.queensmarketplace.com/event/hula-show-2-2-2/2028-05-22/
ATTACH;FMTTYPE=image/jpeg:https://www.queensmarketplace.com/wp-content/uploads/SPStudio_0039.jpg
END:VEVENT
BEGIN:VEVENT
DTSTART;TZID=Pacific/Honolulu:20280529T180000
DTEND;TZID=Pacific/Honolulu:20280529T190000
DTSTAMP:20260421T092355
CREATED:20251201T213340Z
LAST-MODIFIED:20251201T213340Z
UID:10003295-1843236000-1843239600@www.queensmarketplace.com
SUMMARY:Hula Show
DESCRIPTION:Enjoy a beautiful free performance at the Coronation Pavilion\, featuring both kahiko (traditional) and modern hula. Hula narrates Hawaii’s story through the graceful movements of skilled dancers. Experience this intricate ancient art of dance and chant up close and personal in a comfortable outdoor setting. \nMondays | 6 PM | Coronation Pavilion
URL:https://www.queensmarketplace.com/event/hula-show-2-2-2/2028-05-29/
ATTACH;FMTTYPE=image/jpeg:https://www.queensmarketplace.com/wp-content/uploads/SPStudio_0039.jpg
END:VEVENT
BEGIN:VEVENT
DTSTART;TZID=Pacific/Honolulu:20280605T180000
DTEND;TZID=Pacific/Honolulu:20280605T190000
DTSTAMP:20260421T092355
CREATED:20251201T213340Z
LAST-MODIFIED:20251201T213340Z
UID:10003296-1843840800-1843844400@www.queensmarketplace.com
SUMMARY:Hula Show
DESCRIPTION:Enjoy a beautiful free performance at the Coronation Pavilion\, featuring both kahiko (traditional) and modern hula. Hula narrates Hawaii’s story through the graceful movements of skilled dancers. Experience this intricate ancient art of dance and chant up close and personal in a comfortable outdoor setting. \nMondays | 6 PM | Coronation Pavilion
URL:https://www.queensmarketplace.com/event/hula-show-2-2-2/2028-06-05/
ATTACH;FMTTYPE=image/jpeg:https://www.queensmarketplace.com/wp-content/uploads/SPStudio_0039.jpg
END:VEVENT
BEGIN:VEVENT
DTSTART;TZID=Pacific/Honolulu:20280612T180000
DTEND;TZID=Pacific/Honolulu:20280612T190000
DTSTAMP:20260421T092355
CREATED:20251201T213340Z
LAST-MODIFIED:20251201T213340Z
UID:10003297-1844445600-1844449200@www.queensmarketplace.com
SUMMARY:Hula Show
DESCRIPTION:Enjoy a beautiful free performance at the Coronation Pavilion\, featuring both kahiko (traditional) and modern hula. Hula narrates Hawaii’s story through the graceful movements of skilled dancers. Experience this intricate ancient art of dance and chant up close and personal in a comfortable outdoor setting. \nMondays | 6 PM | Coronation Pavilion
URL:https://www.queensmarketplace.com/event/hula-show-2-2-2/2028-06-12/
ATTACH;FMTTYPE=image/jpeg:https://www.queensmarketplace.com/wp-content/uploads/SPStudio_0039.jpg
END:VEVENT
BEGIN:VEVENT
DTSTART;TZID=Pacific/Honolulu:20280617T180000
DTEND;TZID=Pacific/Honolulu:20280617T200000
DTSTAMP:20260421T092355
CREATED:20231023T203402Z
LAST-MODIFIED:20240129T170756Z
UID:10000582-1844877600-1844884800@www.queensmarketplace.com
SUMMARY:Kanikapila Monthly Concert Series
DESCRIPTION:Discover Hawai‘i Island’s best musical talents at Queens’ Marketplace’s Kanikapila Monthly Concert Series sponsored by KWXX\, every third Saturday of the month. \nEvery Third Saturday of the Month | 6 PM | Coronation Pavilion
URL:https://www.queensmarketplace.com/event/kanikapila-monthly-concert-series/2028-06-17/
ATTACH;FMTTYPE=image/jpeg:https://www.queensmarketplace.com/wp-content/uploads/QMP-Monthly-Concert-Series-generic.jpg
END:VEVENT
BEGIN:VEVENT
DTSTART;TZID=Pacific/Honolulu:20280619T180000
DTEND;TZID=Pacific/Honolulu:20280619T190000
DTSTAMP:20260421T092355
CREATED:20251201T213340Z
LAST-MODIFIED:20251201T213340Z
UID:10003298-1845050400-1845054000@www.queensmarketplace.com
SUMMARY:Hula Show
DESCRIPTION:Enjoy a beautiful free performance at the Coronation Pavilion\, featuring both kahiko (traditional) and modern hula. Hula narrates Hawaii’s story through the graceful movements of skilled dancers. Experience this intricate ancient art of dance and chant up close and personal in a comfortable outdoor setting. \nMondays | 6 PM | Coronation Pavilion
URL:https://www.queensmarketplace.com/event/hula-show-2-2-2/2028-06-19/
ATTACH;FMTTYPE=image/jpeg:https://www.queensmarketplace.com/wp-content/uploads/SPStudio_0039.jpg
END:VEVENT
BEGIN:VEVENT
DTSTART;TZID=Pacific/Honolulu:20280626T180000
DTEND;TZID=Pacific/Honolulu:20280626T190000
DTSTAMP:20260421T092355
CREATED:20251201T213340Z
LAST-MODIFIED:20251201T213340Z
UID:10003299-1845655200-1845658800@www.queensmarketplace.com
SUMMARY:Hula Show
DESCRIPTION:Enjoy a beautiful free performance at the Coronation Pavilion\, featuring both kahiko (traditional) and modern hula. Hula narrates Hawaii’s story through the graceful movements of skilled dancers. Experience this intricate ancient art of dance and chant up close and personal in a comfortable outdoor setting. \nMondays | 6 PM | Coronation Pavilion
URL:https://www.queensmarketplace.com/event/hula-show-2-2-2/2028-06-26/
ATTACH;FMTTYPE=image/jpeg:https://www.queensmarketplace.com/wp-content/uploads/SPStudio_0039.jpg
END:VEVENT
BEGIN:VEVENT
DTSTART;TZID=Pacific/Honolulu:20280703T180000
DTEND;TZID=Pacific/Honolulu:20280703T190000
DTSTAMP:20260421T092355
CREATED:20251201T213340Z
LAST-MODIFIED:20251201T213340Z
UID:10003300-1846260000-1846263600@www.queensmarketplace.com
SUMMARY:Hula Show
DESCRIPTION:Enjoy a beautiful free performance at the Coronation Pavilion\, featuring both kahiko (traditional) and modern hula. Hula narrates Hawaii’s story through the graceful movements of skilled dancers. Experience this intricate ancient art of dance and chant up close and personal in a comfortable outdoor setting. \nMondays | 6 PM | Coronation Pavilion
URL:https://www.queensmarketplace.com/event/hula-show-2-2-2/2028-07-03/
ATTACH;FMTTYPE=image/jpeg:https://www.queensmarketplace.com/wp-content/uploads/SPStudio_0039.jpg
END:VEVENT
END:VCALENDAR