BEGIN:VCALENDAR
VERSION:2.0
PRODID:-//Queens&#039; Marketplace - ECPv6.15.15//NONSGML v1.0//EN
CALSCALE:GREGORIAN
METHOD:PUBLISH
X-ORIGINAL-URL:https://www.queensmarketplace.com
X-WR-CALDESC:Events for Queens&#039; Marketplace
REFRESH-INTERVAL;VALUE=DURATION:PT1H
X-Robots-Tag:noindex
X-PUBLISHED-TTL:PT1H
BEGIN:VTIMEZONE
TZID:Pacific/Honolulu
BEGIN:STANDARD
TZOFFSETFROM:-1000
TZOFFSETTO:-1000
TZNAME:HST
DTSTART:20260101T000000
END:STANDARD
END:VTIMEZONE
BEGIN:VEVENT
DTSTART;TZID=Pacific/Honolulu:20270816T180000
DTEND;TZID=Pacific/Honolulu:20270816T190000
DTSTAMP:20260421T024822
CREATED:20251201T213340Z
LAST-MODIFIED:20251201T213340Z
UID:10003254-1818439200-1818442800@www.queensmarketplace.com
SUMMARY:Hula Show
DESCRIPTION:Enjoy a beautiful free performance at the Coronation Pavilion\, featuring both kahiko (traditional) and modern hula. Hula narrates Hawaii’s story through the graceful movements of skilled dancers. Experience this intricate ancient art of dance and chant up close and personal in a comfortable outdoor setting. \nMondays | 6 PM | Coronation Pavilion
URL:https://www.queensmarketplace.com/event/hula-show-2-2-2/2027-08-16/
ATTACH;FMTTYPE=image/jpeg:https://www.queensmarketplace.com/wp-content/uploads/SPStudio_0039.jpg
END:VEVENT
BEGIN:VEVENT
DTSTART;TZID=Pacific/Honolulu:20270821T180000
DTEND;TZID=Pacific/Honolulu:20270821T200000
DTSTAMP:20260421T024822
CREATED:20231023T203402Z
LAST-MODIFIED:20240129T170756Z
UID:10000572-1818871200-1818878400@www.queensmarketplace.com
SUMMARY:Kanikapila Monthly Concert Series
DESCRIPTION:Discover Hawai‘i Island’s best musical talents at Queens’ Marketplace’s Kanikapila Monthly Concert Series sponsored by KWXX\, every third Saturday of the month. \nEvery Third Saturday of the Month | 6 PM | Coronation Pavilion
URL:https://www.queensmarketplace.com/event/kanikapila-monthly-concert-series/2027-08-21/
ATTACH;FMTTYPE=image/jpeg:https://www.queensmarketplace.com/wp-content/uploads/QMP-Monthly-Concert-Series-generic.jpg
END:VEVENT
BEGIN:VEVENT
DTSTART;TZID=Pacific/Honolulu:20270823T180000
DTEND;TZID=Pacific/Honolulu:20270823T190000
DTSTAMP:20260421T024822
CREATED:20251201T213340Z
LAST-MODIFIED:20251201T213340Z
UID:10003255-1819044000-1819047600@www.queensmarketplace.com
SUMMARY:Hula Show
DESCRIPTION:Enjoy a beautiful free performance at the Coronation Pavilion\, featuring both kahiko (traditional) and modern hula. Hula narrates Hawaii’s story through the graceful movements of skilled dancers. Experience this intricate ancient art of dance and chant up close and personal in a comfortable outdoor setting. \nMondays | 6 PM | Coronation Pavilion
URL:https://www.queensmarketplace.com/event/hula-show-2-2-2/2027-08-23/
ATTACH;FMTTYPE=image/jpeg:https://www.queensmarketplace.com/wp-content/uploads/SPStudio_0039.jpg
END:VEVENT
BEGIN:VEVENT
DTSTART;TZID=Pacific/Honolulu:20270830T180000
DTEND;TZID=Pacific/Honolulu:20270830T190000
DTSTAMP:20260421T024822
CREATED:20251201T213340Z
LAST-MODIFIED:20251201T213340Z
UID:10003256-1819648800-1819652400@www.queensmarketplace.com
SUMMARY:Hula Show
DESCRIPTION:Enjoy a beautiful free performance at the Coronation Pavilion\, featuring both kahiko (traditional) and modern hula. Hula narrates Hawaii’s story through the graceful movements of skilled dancers. Experience this intricate ancient art of dance and chant up close and personal in a comfortable outdoor setting. \nMondays | 6 PM | Coronation Pavilion
URL:https://www.queensmarketplace.com/event/hula-show-2-2-2/2027-08-30/
ATTACH;FMTTYPE=image/jpeg:https://www.queensmarketplace.com/wp-content/uploads/SPStudio_0039.jpg
END:VEVENT
BEGIN:VEVENT
DTSTART;TZID=Pacific/Honolulu:20270906T180000
DTEND;TZID=Pacific/Honolulu:20270906T190000
DTSTAMP:20260421T024822
CREATED:20251201T213340Z
LAST-MODIFIED:20251201T213340Z
UID:10003257-1820253600-1820257200@www.queensmarketplace.com
SUMMARY:Hula Show
DESCRIPTION:Enjoy a beautiful free performance at the Coronation Pavilion\, featuring both kahiko (traditional) and modern hula. Hula narrates Hawaii’s story through the graceful movements of skilled dancers. Experience this intricate ancient art of dance and chant up close and personal in a comfortable outdoor setting. \nMondays | 6 PM | Coronation Pavilion
URL:https://www.queensmarketplace.com/event/hula-show-2-2-2/2027-09-06/
ATTACH;FMTTYPE=image/jpeg:https://www.queensmarketplace.com/wp-content/uploads/SPStudio_0039.jpg
END:VEVENT
BEGIN:VEVENT
DTSTART;TZID=Pacific/Honolulu:20270913T180000
DTEND;TZID=Pacific/Honolulu:20270913T190000
DTSTAMP:20260421T024822
CREATED:20251201T213340Z
LAST-MODIFIED:20251201T213340Z
UID:10003258-1820858400-1820862000@www.queensmarketplace.com
SUMMARY:Hula Show
DESCRIPTION:Enjoy a beautiful free performance at the Coronation Pavilion\, featuring both kahiko (traditional) and modern hula. Hula narrates Hawaii’s story through the graceful movements of skilled dancers. Experience this intricate ancient art of dance and chant up close and personal in a comfortable outdoor setting. \nMondays | 6 PM | Coronation Pavilion
URL:https://www.queensmarketplace.com/event/hula-show-2-2-2/2027-09-13/
ATTACH;FMTTYPE=image/jpeg:https://www.queensmarketplace.com/wp-content/uploads/SPStudio_0039.jpg
END:VEVENT
BEGIN:VEVENT
DTSTART;TZID=Pacific/Honolulu:20270918T180000
DTEND;TZID=Pacific/Honolulu:20270918T200000
DTSTAMP:20260421T024822
CREATED:20231023T203402Z
LAST-MODIFIED:20240129T170756Z
UID:10000573-1821290400-1821297600@www.queensmarketplace.com
SUMMARY:Kanikapila Monthly Concert Series
DESCRIPTION:Discover Hawai‘i Island’s best musical talents at Queens’ Marketplace’s Kanikapila Monthly Concert Series sponsored by KWXX\, every third Saturday of the month. \nEvery Third Saturday of the Month | 6 PM | Coronation Pavilion
URL:https://www.queensmarketplace.com/event/kanikapila-monthly-concert-series/2027-09-18/
ATTACH;FMTTYPE=image/jpeg:https://www.queensmarketplace.com/wp-content/uploads/QMP-Monthly-Concert-Series-generic.jpg
END:VEVENT
BEGIN:VEVENT
DTSTART;TZID=Pacific/Honolulu:20270920T180000
DTEND;TZID=Pacific/Honolulu:20270920T190000
DTSTAMP:20260421T024822
CREATED:20251201T213340Z
LAST-MODIFIED:20251201T213340Z
UID:10003259-1821463200-1821466800@www.queensmarketplace.com
SUMMARY:Hula Show
DESCRIPTION:Enjoy a beautiful free performance at the Coronation Pavilion\, featuring both kahiko (traditional) and modern hula. Hula narrates Hawaii’s story through the graceful movements of skilled dancers. Experience this intricate ancient art of dance and chant up close and personal in a comfortable outdoor setting. \nMondays | 6 PM | Coronation Pavilion
URL:https://www.queensmarketplace.com/event/hula-show-2-2-2/2027-09-20/
ATTACH;FMTTYPE=image/jpeg:https://www.queensmarketplace.com/wp-content/uploads/SPStudio_0039.jpg
END:VEVENT
BEGIN:VEVENT
DTSTART;TZID=Pacific/Honolulu:20270927T180000
DTEND;TZID=Pacific/Honolulu:20270927T190000
DTSTAMP:20260421T024822
CREATED:20251201T213340Z
LAST-MODIFIED:20251201T213340Z
UID:10003260-1822068000-1822071600@www.queensmarketplace.com
SUMMARY:Hula Show
DESCRIPTION:Enjoy a beautiful free performance at the Coronation Pavilion\, featuring both kahiko (traditional) and modern hula. Hula narrates Hawaii’s story through the graceful movements of skilled dancers. Experience this intricate ancient art of dance and chant up close and personal in a comfortable outdoor setting. \nMondays | 6 PM | Coronation Pavilion
URL:https://www.queensmarketplace.com/event/hula-show-2-2-2/2027-09-27/
ATTACH;FMTTYPE=image/jpeg:https://www.queensmarketplace.com/wp-content/uploads/SPStudio_0039.jpg
END:VEVENT
BEGIN:VEVENT
DTSTART;TZID=Pacific/Honolulu:20271004T180000
DTEND;TZID=Pacific/Honolulu:20271004T190000
DTSTAMP:20260421T024822
CREATED:20251201T213340Z
LAST-MODIFIED:20251201T213340Z
UID:10003261-1822672800-1822676400@www.queensmarketplace.com
SUMMARY:Hula Show
DESCRIPTION:Enjoy a beautiful free performance at the Coronation Pavilion\, featuring both kahiko (traditional) and modern hula. Hula narrates Hawaii’s story through the graceful movements of skilled dancers. Experience this intricate ancient art of dance and chant up close and personal in a comfortable outdoor setting. \nMondays | 6 PM | Coronation Pavilion
URL:https://www.queensmarketplace.com/event/hula-show-2-2-2/2027-10-04/
ATTACH;FMTTYPE=image/jpeg:https://www.queensmarketplace.com/wp-content/uploads/SPStudio_0039.jpg
END:VEVENT
BEGIN:VEVENT
DTSTART;TZID=Pacific/Honolulu:20271011T180000
DTEND;TZID=Pacific/Honolulu:20271011T190000
DTSTAMP:20260421T024822
CREATED:20251201T213340Z
LAST-MODIFIED:20251201T213340Z
UID:10003262-1823277600-1823281200@www.queensmarketplace.com
SUMMARY:Hula Show
DESCRIPTION:Enjoy a beautiful free performance at the Coronation Pavilion\, featuring both kahiko (traditional) and modern hula. Hula narrates Hawaii’s story through the graceful movements of skilled dancers. Experience this intricate ancient art of dance and chant up close and personal in a comfortable outdoor setting. \nMondays | 6 PM | Coronation Pavilion
URL:https://www.queensmarketplace.com/event/hula-show-2-2-2/2027-10-11/
ATTACH;FMTTYPE=image/jpeg:https://www.queensmarketplace.com/wp-content/uploads/SPStudio_0039.jpg
END:VEVENT
BEGIN:VEVENT
DTSTART;TZID=Pacific/Honolulu:20271016T180000
DTEND;TZID=Pacific/Honolulu:20271016T200000
DTSTAMP:20260421T024822
CREATED:20231023T203402Z
LAST-MODIFIED:20240129T170756Z
UID:10000574-1823709600-1823716800@www.queensmarketplace.com
SUMMARY:Kanikapila Monthly Concert Series
DESCRIPTION:Discover Hawai‘i Island’s best musical talents at Queens’ Marketplace’s Kanikapila Monthly Concert Series sponsored by KWXX\, every third Saturday of the month. \nEvery Third Saturday of the Month | 6 PM | Coronation Pavilion
URL:https://www.queensmarketplace.com/event/kanikapila-monthly-concert-series/2027-10-16/
ATTACH;FMTTYPE=image/jpeg:https://www.queensmarketplace.com/wp-content/uploads/QMP-Monthly-Concert-Series-generic.jpg
END:VEVENT
BEGIN:VEVENT
DTSTART;TZID=Pacific/Honolulu:20271018T180000
DTEND;TZID=Pacific/Honolulu:20271018T190000
DTSTAMP:20260421T024822
CREATED:20251201T213340Z
LAST-MODIFIED:20251201T213340Z
UID:10003263-1823882400-1823886000@www.queensmarketplace.com
SUMMARY:Hula Show
DESCRIPTION:Enjoy a beautiful free performance at the Coronation Pavilion\, featuring both kahiko (traditional) and modern hula. Hula narrates Hawaii’s story through the graceful movements of skilled dancers. Experience this intricate ancient art of dance and chant up close and personal in a comfortable outdoor setting. \nMondays | 6 PM | Coronation Pavilion
URL:https://www.queensmarketplace.com/event/hula-show-2-2-2/2027-10-18/
ATTACH;FMTTYPE=image/jpeg:https://www.queensmarketplace.com/wp-content/uploads/SPStudio_0039.jpg
END:VEVENT
BEGIN:VEVENT
DTSTART;TZID=Pacific/Honolulu:20271025T180000
DTEND;TZID=Pacific/Honolulu:20271025T190000
DTSTAMP:20260421T024822
CREATED:20251201T213340Z
LAST-MODIFIED:20251201T213340Z
UID:10003264-1824487200-1824490800@www.queensmarketplace.com
SUMMARY:Hula Show
DESCRIPTION:Enjoy a beautiful free performance at the Coronation Pavilion\, featuring both kahiko (traditional) and modern hula. Hula narrates Hawaii’s story through the graceful movements of skilled dancers. Experience this intricate ancient art of dance and chant up close and personal in a comfortable outdoor setting. \nMondays | 6 PM | Coronation Pavilion
URL:https://www.queensmarketplace.com/event/hula-show-2-2-2/2027-10-25/
ATTACH;FMTTYPE=image/jpeg:https://www.queensmarketplace.com/wp-content/uploads/SPStudio_0039.jpg
END:VEVENT
BEGIN:VEVENT
DTSTART;TZID=Pacific/Honolulu:20271101T180000
DTEND;TZID=Pacific/Honolulu:20271101T190000
DTSTAMP:20260421T024822
CREATED:20251201T213340Z
LAST-MODIFIED:20251201T213340Z
UID:10003265-1825092000-1825095600@www.queensmarketplace.com
SUMMARY:Hula Show
DESCRIPTION:Enjoy a beautiful free performance at the Coronation Pavilion\, featuring both kahiko (traditional) and modern hula. Hula narrates Hawaii’s story through the graceful movements of skilled dancers. Experience this intricate ancient art of dance and chant up close and personal in a comfortable outdoor setting. \nMondays | 6 PM | Coronation Pavilion
URL:https://www.queensmarketplace.com/event/hula-show-2-2-2/2027-11-01/
ATTACH;FMTTYPE=image/jpeg:https://www.queensmarketplace.com/wp-content/uploads/SPStudio_0039.jpg
END:VEVENT
BEGIN:VEVENT
DTSTART;TZID=Pacific/Honolulu:20271108T180000
DTEND;TZID=Pacific/Honolulu:20271108T190000
DTSTAMP:20260421T024822
CREATED:20251201T213340Z
LAST-MODIFIED:20251201T213340Z
UID:10003266-1825696800-1825700400@www.queensmarketplace.com
SUMMARY:Hula Show
DESCRIPTION:Enjoy a beautiful free performance at the Coronation Pavilion\, featuring both kahiko (traditional) and modern hula. Hula narrates Hawaii’s story through the graceful movements of skilled dancers. Experience this intricate ancient art of dance and chant up close and personal in a comfortable outdoor setting. \nMondays | 6 PM | Coronation Pavilion
URL:https://www.queensmarketplace.com/event/hula-show-2-2-2/2027-11-08/
ATTACH;FMTTYPE=image/jpeg:https://www.queensmarketplace.com/wp-content/uploads/SPStudio_0039.jpg
END:VEVENT
BEGIN:VEVENT
DTSTART;TZID=Pacific/Honolulu:20271115T180000
DTEND;TZID=Pacific/Honolulu:20271115T190000
DTSTAMP:20260421T024822
CREATED:20251201T213340Z
LAST-MODIFIED:20251201T213340Z
UID:10003267-1826301600-1826305200@www.queensmarketplace.com
SUMMARY:Hula Show
DESCRIPTION:Enjoy a beautiful free performance at the Coronation Pavilion\, featuring both kahiko (traditional) and modern hula. Hula narrates Hawaii’s story through the graceful movements of skilled dancers. Experience this intricate ancient art of dance and chant up close and personal in a comfortable outdoor setting. \nMondays | 6 PM | Coronation Pavilion
URL:https://www.queensmarketplace.com/event/hula-show-2-2-2/2027-11-15/
ATTACH;FMTTYPE=image/jpeg:https://www.queensmarketplace.com/wp-content/uploads/SPStudio_0039.jpg
END:VEVENT
BEGIN:VEVENT
DTSTART;TZID=Pacific/Honolulu:20271120T180000
DTEND;TZID=Pacific/Honolulu:20271120T200000
DTSTAMP:20260421T024822
CREATED:20231023T203402Z
LAST-MODIFIED:20240129T170756Z
UID:10000575-1826733600-1826740800@www.queensmarketplace.com
SUMMARY:Kanikapila Monthly Concert Series
DESCRIPTION:Discover Hawai‘i Island’s best musical talents at Queens’ Marketplace’s Kanikapila Monthly Concert Series sponsored by KWXX\, every third Saturday of the month. \nEvery Third Saturday of the Month | 6 PM | Coronation Pavilion
URL:https://www.queensmarketplace.com/event/kanikapila-monthly-concert-series/2027-11-20/
ATTACH;FMTTYPE=image/jpeg:https://www.queensmarketplace.com/wp-content/uploads/QMP-Monthly-Concert-Series-generic.jpg
END:VEVENT
BEGIN:VEVENT
DTSTART;TZID=Pacific/Honolulu:20271122T180000
DTEND;TZID=Pacific/Honolulu:20271122T190000
DTSTAMP:20260421T024822
CREATED:20251201T213340Z
LAST-MODIFIED:20251201T213340Z
UID:10003268-1826906400-1826910000@www.queensmarketplace.com
SUMMARY:Hula Show
DESCRIPTION:Enjoy a beautiful free performance at the Coronation Pavilion\, featuring both kahiko (traditional) and modern hula. Hula narrates Hawaii’s story through the graceful movements of skilled dancers. Experience this intricate ancient art of dance and chant up close and personal in a comfortable outdoor setting. \nMondays | 6 PM | Coronation Pavilion
URL:https://www.queensmarketplace.com/event/hula-show-2-2-2/2027-11-22/
ATTACH;FMTTYPE=image/jpeg:https://www.queensmarketplace.com/wp-content/uploads/SPStudio_0039.jpg
END:VEVENT
BEGIN:VEVENT
DTSTART;TZID=Pacific/Honolulu:20271129T180000
DTEND;TZID=Pacific/Honolulu:20271129T190000
DTSTAMP:20260421T024822
CREATED:20251201T213340Z
LAST-MODIFIED:20251201T213340Z
UID:10003269-1827511200-1827514800@www.queensmarketplace.com
SUMMARY:Hula Show
DESCRIPTION:Enjoy a beautiful free performance at the Coronation Pavilion\, featuring both kahiko (traditional) and modern hula. Hula narrates Hawaii’s story through the graceful movements of skilled dancers. Experience this intricate ancient art of dance and chant up close and personal in a comfortable outdoor setting. \nMondays | 6 PM | Coronation Pavilion
URL:https://www.queensmarketplace.com/event/hula-show-2-2-2/2027-11-29/
ATTACH;FMTTYPE=image/jpeg:https://www.queensmarketplace.com/wp-content/uploads/SPStudio_0039.jpg
END:VEVENT
BEGIN:VEVENT
DTSTART;TZID=Pacific/Honolulu:20271206T180000
DTEND;TZID=Pacific/Honolulu:20271206T190000
DTSTAMP:20260421T024822
CREATED:20251201T213340Z
LAST-MODIFIED:20251201T213340Z
UID:10003270-1828116000-1828119600@www.queensmarketplace.com
SUMMARY:Hula Show
DESCRIPTION:Enjoy a beautiful free performance at the Coronation Pavilion\, featuring both kahiko (traditional) and modern hula. Hula narrates Hawaii’s story through the graceful movements of skilled dancers. Experience this intricate ancient art of dance and chant up close and personal in a comfortable outdoor setting. \nMondays | 6 PM | Coronation Pavilion
URL:https://www.queensmarketplace.com/event/hula-show-2-2-2/2027-12-06/
ATTACH;FMTTYPE=image/jpeg:https://www.queensmarketplace.com/wp-content/uploads/SPStudio_0039.jpg
END:VEVENT
BEGIN:VEVENT
DTSTART;TZID=Pacific/Honolulu:20271213T180000
DTEND;TZID=Pacific/Honolulu:20271213T190000
DTSTAMP:20260421T024822
CREATED:20251201T213340Z
LAST-MODIFIED:20251201T213340Z
UID:10003271-1828720800-1828724400@www.queensmarketplace.com
SUMMARY:Hula Show
DESCRIPTION:Enjoy a beautiful free performance at the Coronation Pavilion\, featuring both kahiko (traditional) and modern hula. Hula narrates Hawaii’s story through the graceful movements of skilled dancers. Experience this intricate ancient art of dance and chant up close and personal in a comfortable outdoor setting. \nMondays | 6 PM | Coronation Pavilion
URL:https://www.queensmarketplace.com/event/hula-show-2-2-2/2027-12-13/
ATTACH;FMTTYPE=image/jpeg:https://www.queensmarketplace.com/wp-content/uploads/SPStudio_0039.jpg
END:VEVENT
BEGIN:VEVENT
DTSTART;TZID=Pacific/Honolulu:20271218T180000
DTEND;TZID=Pacific/Honolulu:20271218T200000
DTSTAMP:20260421T024822
CREATED:20231023T203402Z
LAST-MODIFIED:20240129T170756Z
UID:10000576-1829152800-1829160000@www.queensmarketplace.com
SUMMARY:Kanikapila Monthly Concert Series
DESCRIPTION:Discover Hawai‘i Island’s best musical talents at Queens’ Marketplace’s Kanikapila Monthly Concert Series sponsored by KWXX\, every third Saturday of the month. \nEvery Third Saturday of the Month | 6 PM | Coronation Pavilion
URL:https://www.queensmarketplace.com/event/kanikapila-monthly-concert-series/2027-12-18/
ATTACH;FMTTYPE=image/jpeg:https://www.queensmarketplace.com/wp-content/uploads/QMP-Monthly-Concert-Series-generic.jpg
END:VEVENT
BEGIN:VEVENT
DTSTART;TZID=Pacific/Honolulu:20271220T180000
DTEND;TZID=Pacific/Honolulu:20271220T190000
DTSTAMP:20260421T024822
CREATED:20251201T213340Z
LAST-MODIFIED:20251201T213340Z
UID:10003272-1829325600-1829329200@www.queensmarketplace.com
SUMMARY:Hula Show
DESCRIPTION:Enjoy a beautiful free performance at the Coronation Pavilion\, featuring both kahiko (traditional) and modern hula. Hula narrates Hawaii’s story through the graceful movements of skilled dancers. Experience this intricate ancient art of dance and chant up close and personal in a comfortable outdoor setting. \nMondays | 6 PM | Coronation Pavilion
URL:https://www.queensmarketplace.com/event/hula-show-2-2-2/2027-12-20/
ATTACH;FMTTYPE=image/jpeg:https://www.queensmarketplace.com/wp-content/uploads/SPStudio_0039.jpg
END:VEVENT
BEGIN:VEVENT
DTSTART;TZID=Pacific/Honolulu:20271227T180000
DTEND;TZID=Pacific/Honolulu:20271227T190000
DTSTAMP:20260421T024822
CREATED:20251201T213340Z
LAST-MODIFIED:20251201T213340Z
UID:10003273-1829930400-1829934000@www.queensmarketplace.com
SUMMARY:Hula Show
DESCRIPTION:Enjoy a beautiful free performance at the Coronation Pavilion\, featuring both kahiko (traditional) and modern hula. Hula narrates Hawaii’s story through the graceful movements of skilled dancers. Experience this intricate ancient art of dance and chant up close and personal in a comfortable outdoor setting. \nMondays | 6 PM | Coronation Pavilion
URL:https://www.queensmarketplace.com/event/hula-show-2-2-2/2027-12-27/
ATTACH;FMTTYPE=image/jpeg:https://www.queensmarketplace.com/wp-content/uploads/SPStudio_0039.jpg
END:VEVENT
BEGIN:VEVENT
DTSTART;TZID=Pacific/Honolulu:20280103T180000
DTEND;TZID=Pacific/Honolulu:20280103T190000
DTSTAMP:20260421T024822
CREATED:20251201T213340Z
LAST-MODIFIED:20251201T213340Z
UID:10003274-1830535200-1830538800@www.queensmarketplace.com
SUMMARY:Hula Show
DESCRIPTION:Enjoy a beautiful free performance at the Coronation Pavilion\, featuring both kahiko (traditional) and modern hula. Hula narrates Hawaii’s story through the graceful movements of skilled dancers. Experience this intricate ancient art of dance and chant up close and personal in a comfortable outdoor setting. \nMondays | 6 PM | Coronation Pavilion
URL:https://www.queensmarketplace.com/event/hula-show-2-2-2/2028-01-03/
ATTACH;FMTTYPE=image/jpeg:https://www.queensmarketplace.com/wp-content/uploads/SPStudio_0039.jpg
END:VEVENT
BEGIN:VEVENT
DTSTART;TZID=Pacific/Honolulu:20280110T180000
DTEND;TZID=Pacific/Honolulu:20280110T190000
DTSTAMP:20260421T024822
CREATED:20251201T213340Z
LAST-MODIFIED:20251201T213340Z
UID:10003275-1831140000-1831143600@www.queensmarketplace.com
SUMMARY:Hula Show
DESCRIPTION:Enjoy a beautiful free performance at the Coronation Pavilion\, featuring both kahiko (traditional) and modern hula. Hula narrates Hawaii’s story through the graceful movements of skilled dancers. Experience this intricate ancient art of dance and chant up close and personal in a comfortable outdoor setting. \nMondays | 6 PM | Coronation Pavilion
URL:https://www.queensmarketplace.com/event/hula-show-2-2-2/2028-01-10/
ATTACH;FMTTYPE=image/jpeg:https://www.queensmarketplace.com/wp-content/uploads/SPStudio_0039.jpg
END:VEVENT
BEGIN:VEVENT
DTSTART;TZID=Pacific/Honolulu:20280115T180000
DTEND;TZID=Pacific/Honolulu:20280115T200000
DTSTAMP:20260421T024822
CREATED:20231023T203402Z
LAST-MODIFIED:20240129T170756Z
UID:10000577-1831572000-1831579200@www.queensmarketplace.com
SUMMARY:Kanikapila Monthly Concert Series
DESCRIPTION:Discover Hawai‘i Island’s best musical talents at Queens’ Marketplace’s Kanikapila Monthly Concert Series sponsored by KWXX\, every third Saturday of the month. \nEvery Third Saturday of the Month | 6 PM | Coronation Pavilion
URL:https://www.queensmarketplace.com/event/kanikapila-monthly-concert-series/2028-01-15/
ATTACH;FMTTYPE=image/jpeg:https://www.queensmarketplace.com/wp-content/uploads/QMP-Monthly-Concert-Series-generic.jpg
END:VEVENT
BEGIN:VEVENT
DTSTART;TZID=Pacific/Honolulu:20280117T180000
DTEND;TZID=Pacific/Honolulu:20280117T190000
DTSTAMP:20260421T024822
CREATED:20251201T213340Z
LAST-MODIFIED:20251201T213340Z
UID:10003276-1831744800-1831748400@www.queensmarketplace.com
SUMMARY:Hula Show
DESCRIPTION:Enjoy a beautiful free performance at the Coronation Pavilion\, featuring both kahiko (traditional) and modern hula. Hula narrates Hawaii’s story through the graceful movements of skilled dancers. Experience this intricate ancient art of dance and chant up close and personal in a comfortable outdoor setting. \nMondays | 6 PM | Coronation Pavilion
URL:https://www.queensmarketplace.com/event/hula-show-2-2-2/2028-01-17/
ATTACH;FMTTYPE=image/jpeg:https://www.queensmarketplace.com/wp-content/uploads/SPStudio_0039.jpg
END:VEVENT
BEGIN:VEVENT
DTSTART;TZID=Pacific/Honolulu:20280124T180000
DTEND;TZID=Pacific/Honolulu:20280124T190000
DTSTAMP:20260421T024822
CREATED:20251201T213340Z
LAST-MODIFIED:20251201T213340Z
UID:10003277-1832349600-1832353200@www.queensmarketplace.com
SUMMARY:Hula Show
DESCRIPTION:Enjoy a beautiful free performance at the Coronation Pavilion\, featuring both kahiko (traditional) and modern hula. Hula narrates Hawaii’s story through the graceful movements of skilled dancers. Experience this intricate ancient art of dance and chant up close and personal in a comfortable outdoor setting. \nMondays | 6 PM | Coronation Pavilion
URL:https://www.queensmarketplace.com/event/hula-show-2-2-2/2028-01-24/
ATTACH;FMTTYPE=image/jpeg:https://www.queensmarketplace.com/wp-content/uploads/SPStudio_0039.jpg
END:VEVENT
END:VCALENDAR