BEGIN:VCALENDAR
VERSION:2.0
PRODID:-//Queens&#039; Marketplace - ECPv6.15.15//NONSGML v1.0//EN
CALSCALE:GREGORIAN
METHOD:PUBLISH
X-ORIGINAL-URL:https://www.queensmarketplace.com
X-WR-CALDESC:Events for Queens&#039; Marketplace
REFRESH-INTERVAL;VALUE=DURATION:PT1H
X-Robots-Tag:noindex
X-PUBLISHED-TTL:PT1H
BEGIN:VTIMEZONE
TZID:Pacific/Honolulu
BEGIN:STANDARD
TZOFFSETFROM:-1000
TZOFFSETTO:-1000
TZNAME:HST
DTSTART:20250101T000000
END:STANDARD
END:VTIMEZONE
BEGIN:VEVENT
DTSTART;VALUE=DATE:20260525
DTEND;VALUE=DATE:20260526
DTSTAMP:20260420T142558
CREATED:20260415T025054Z
LAST-MODIFIED:20260415T025223Z
UID:10004811-1779667200-1779753599@www.queensmarketplace.com
SUMMARY:Sunglass Hut - Customer Week
DESCRIPTION:Join Sunglass Hut at Queens’ Marketplace for Customer Week\, featuring exclusive savings and perks for Sun Club members! \nEnjoy 25% off select full-price styles and receive a FREE Care Kit with purchase. Not a member yet? Sign up in-store for free and unlock access to this special offer. \nDon’t miss this limited-time opportunity to refresh your look with the season’s must-have shades. \nOffers valid in-store only. Restrictions apply. See store for details.
URL:https://www.queensmarketplace.com/event/5154/2026-05-25/
ATTACH;FMTTYPE=image/jpeg:https://www.queensmarketplace.com/wp-content/uploads/Core-Digital.jpg
END:VEVENT
BEGIN:VEVENT
DTSTART;VALUE=DATE:20260524
DTEND;VALUE=DATE:20260525
DTSTAMP:20260420T142558
CREATED:20260415T025054Z
LAST-MODIFIED:20260415T025223Z
UID:10004810-1779580800-1779667199@www.queensmarketplace.com
SUMMARY:Sunglass Hut - Customer Week
DESCRIPTION:Join Sunglass Hut at Queens’ Marketplace for Customer Week\, featuring exclusive savings and perks for Sun Club members! \nEnjoy 25% off select full-price styles and receive a FREE Care Kit with purchase. Not a member yet? Sign up in-store for free and unlock access to this special offer. \nDon’t miss this limited-time opportunity to refresh your look with the season’s must-have shades. \nOffers valid in-store only. Restrictions apply. See store for details.
URL:https://www.queensmarketplace.com/event/5154/2026-05-24/
ATTACH;FMTTYPE=image/jpeg:https://www.queensmarketplace.com/wp-content/uploads/Core-Digital.jpg
END:VEVENT
BEGIN:VEVENT
DTSTART;VALUE=DATE:20260523
DTEND;VALUE=DATE:20260524
DTSTAMP:20260420T142558
CREATED:20260415T025054Z
LAST-MODIFIED:20260415T025223Z
UID:10004809-1779494400-1779580799@www.queensmarketplace.com
SUMMARY:Sunglass Hut - Customer Week
DESCRIPTION:Join Sunglass Hut at Queens’ Marketplace for Customer Week\, featuring exclusive savings and perks for Sun Club members! \nEnjoy 25% off select full-price styles and receive a FREE Care Kit with purchase. Not a member yet? Sign up in-store for free and unlock access to this special offer. \nDon’t miss this limited-time opportunity to refresh your look with the season’s must-have shades. \nOffers valid in-store only. Restrictions apply. See store for details.
URL:https://www.queensmarketplace.com/event/5154/2026-05-23/
ATTACH;FMTTYPE=image/jpeg:https://www.queensmarketplace.com/wp-content/uploads/Core-Digital.jpg
END:VEVENT
BEGIN:VEVENT
DTSTART;VALUE=DATE:20260522
DTEND;VALUE=DATE:20260523
DTSTAMP:20260420T142558
CREATED:20260415T025054Z
LAST-MODIFIED:20260415T025223Z
UID:10004808-1779408000-1779494399@www.queensmarketplace.com
SUMMARY:Sunglass Hut - Customer Week
DESCRIPTION:Join Sunglass Hut at Queens’ Marketplace for Customer Week\, featuring exclusive savings and perks for Sun Club members! \nEnjoy 25% off select full-price styles and receive a FREE Care Kit with purchase. Not a member yet? Sign up in-store for free and unlock access to this special offer. \nDon’t miss this limited-time opportunity to refresh your look with the season’s must-have shades. \nOffers valid in-store only. Restrictions apply. See store for details.
URL:https://www.queensmarketplace.com/event/5154/2026-05-22/
ATTACH;FMTTYPE=image/jpeg:https://www.queensmarketplace.com/wp-content/uploads/Core-Digital.jpg
END:VEVENT
BEGIN:VEVENT
DTSTART;VALUE=DATE:20260521
DTEND;VALUE=DATE:20260522
DTSTAMP:20260420T142558
CREATED:20260415T025054Z
LAST-MODIFIED:20260415T025223Z
UID:10004807-1779321600-1779407999@www.queensmarketplace.com
SUMMARY:Sunglass Hut - Customer Week
DESCRIPTION:Join Sunglass Hut at Queens’ Marketplace for Customer Week\, featuring exclusive savings and perks for Sun Club members! \nEnjoy 25% off select full-price styles and receive a FREE Care Kit with purchase. Not a member yet? Sign up in-store for free and unlock access to this special offer. \nDon’t miss this limited-time opportunity to refresh your look with the season’s must-have shades. \nOffers valid in-store only. Restrictions apply. See store for details.
URL:https://www.queensmarketplace.com/event/5154/2026-05-21/
ATTACH;FMTTYPE=image/jpeg:https://www.queensmarketplace.com/wp-content/uploads/Core-Digital.jpg
END:VEVENT
BEGIN:VEVENT
DTSTART;TZID=Pacific/Honolulu:20260520T180000
DTEND;TZID=Pacific/Honolulu:20260520T190000
DTSTAMP:20260420T142558
CREATED:20260120T220122Z
LAST-MODIFIED:20260120T220123Z
UID:10004732-1779300000-1779303600@www.queensmarketplace.com
SUMMARY:Ukulele Lesson
DESCRIPTION:Learn how to play the ukulele in this fun and engaging music experience. Classes are instructed by 3x Nā Hōkū Hanohano award winning artist\, Kris Fuchigami. Ukuleles and sheet music will be provided on a first come\, first serve basis to the first 9 persons\, or feel free to bring your own ukulele! \nWeekly | 6 PM | Coronation Pavilion
URL:https://www.queensmarketplace.com/event/ukulele-lessons-2-4/2026-05-20/
ATTACH;FMTTYPE=image/jpeg:https://www.queensmarketplace.com/wp-content/uploads/Ukulele.jpg
END:VEVENT
BEGIN:VEVENT
DTSTART;VALUE=DATE:20260520
DTEND;VALUE=DATE:20260521
DTSTAMP:20260420T142558
CREATED:20260415T025054Z
LAST-MODIFIED:20260415T025223Z
UID:10004806-1779235200-1779321599@www.queensmarketplace.com
SUMMARY:Sunglass Hut - Customer Week
DESCRIPTION:Join Sunglass Hut at Queens’ Marketplace for Customer Week\, featuring exclusive savings and perks for Sun Club members! \nEnjoy 25% off select full-price styles and receive a FREE Care Kit with purchase. Not a member yet? Sign up in-store for free and unlock access to this special offer. \nDon’t miss this limited-time opportunity to refresh your look with the season’s must-have shades. \nOffers valid in-store only. Restrictions apply. See store for details.
URL:https://www.queensmarketplace.com/event/5154/2026-05-20/
ATTACH;FMTTYPE=image/jpeg:https://www.queensmarketplace.com/wp-content/uploads/Core-Digital.jpg
END:VEVENT
BEGIN:VEVENT
DTSTART;VALUE=DATE:20260519
DTEND;VALUE=DATE:20260520
DTSTAMP:20260420T142558
CREATED:20260415T025054Z
LAST-MODIFIED:20260415T025223Z
UID:10004805-1779148800-1779235199@www.queensmarketplace.com
SUMMARY:Sunglass Hut - Customer Week
DESCRIPTION:Join Sunglass Hut at Queens’ Marketplace for Customer Week\, featuring exclusive savings and perks for Sun Club members! \nEnjoy 25% off select full-price styles and receive a FREE Care Kit with purchase. Not a member yet? Sign up in-store for free and unlock access to this special offer. \nDon’t miss this limited-time opportunity to refresh your look with the season’s must-have shades. \nOffers valid in-store only. Restrictions apply. See store for details.
URL:https://www.queensmarketplace.com/event/5154/2026-05-19/
ATTACH;FMTTYPE=image/jpeg:https://www.queensmarketplace.com/wp-content/uploads/Core-Digital.jpg
END:VEVENT
BEGIN:VEVENT
DTSTART;TZID=Pacific/Honolulu:20260518T180000
DTEND;TZID=Pacific/Honolulu:20260518T190000
DTSTAMP:20260420T142558
CREATED:20251201T213340Z
LAST-MODIFIED:20251201T213340Z
UID:10003189-1779127200-1779130800@www.queensmarketplace.com
SUMMARY:Hula Show
DESCRIPTION:Enjoy a beautiful free performance at the Coronation Pavilion\, featuring both kahiko (traditional) and modern hula. Hula narrates Hawaii’s story through the graceful movements of skilled dancers. Experience this intricate ancient art of dance and chant up close and personal in a comfortable outdoor setting. \nMondays | 6 PM | Coronation Pavilion
URL:https://www.queensmarketplace.com/event/hula-show-2-2-2/2026-05-18/
ATTACH;FMTTYPE=image/jpeg:https://www.queensmarketplace.com/wp-content/uploads/SPStudio_0039.jpg
END:VEVENT
BEGIN:VEVENT
DTSTART;VALUE=DATE:20260518
DTEND;VALUE=DATE:20260519
DTSTAMP:20260420T142558
CREATED:20260415T025054Z
LAST-MODIFIED:20260415T025223Z
UID:10004804-1779062400-1779148799@www.queensmarketplace.com
SUMMARY:Sunglass Hut - Customer Week
DESCRIPTION:Join Sunglass Hut at Queens’ Marketplace for Customer Week\, featuring exclusive savings and perks for Sun Club members! \nEnjoy 25% off select full-price styles and receive a FREE Care Kit with purchase. Not a member yet? Sign up in-store for free and unlock access to this special offer. \nDon’t miss this limited-time opportunity to refresh your look with the season’s must-have shades. \nOffers valid in-store only. Restrictions apply. See store for details.
URL:https://www.queensmarketplace.com/event/5154/2026-05-18/
ATTACH;FMTTYPE=image/jpeg:https://www.queensmarketplace.com/wp-content/uploads/Core-Digital.jpg
END:VEVENT
BEGIN:VEVENT
DTSTART;VALUE=DATE:20260517
DTEND;VALUE=DATE:20260518
DTSTAMP:20260420T142558
CREATED:20260415T025054Z
LAST-MODIFIED:20260415T025223Z
UID:10004803-1778976000-1779062399@www.queensmarketplace.com
SUMMARY:Sunglass Hut - Customer Week
DESCRIPTION:Join Sunglass Hut at Queens’ Marketplace for Customer Week\, featuring exclusive savings and perks for Sun Club members! \nEnjoy 25% off select full-price styles and receive a FREE Care Kit with purchase. Not a member yet? Sign up in-store for free and unlock access to this special offer. \nDon’t miss this limited-time opportunity to refresh your look with the season’s must-have shades. \nOffers valid in-store only. Restrictions apply. See store for details.
URL:https://www.queensmarketplace.com/event/5154/2026-05-17/
ATTACH;FMTTYPE=image/jpeg:https://www.queensmarketplace.com/wp-content/uploads/Core-Digital.jpg
END:VEVENT
BEGIN:VEVENT
DTSTART;TZID=Pacific/Honolulu:20260516T180000
DTEND;TZID=Pacific/Honolulu:20260516T200000
DTSTAMP:20260420T142558
CREATED:20260407T204452Z
LAST-MODIFIED:20260407T204453Z
UID:10000557-1778954400-1778961600@www.queensmarketplace.com
SUMMARY:Kanikapila Monthly Concert Series
DESCRIPTION:Discover Hawai‘i Island’s best musical talents at Queens’ Marketplace’s Kanikapila Monthly Concert Series sponsored by KWXX\, every third Saturday of the month. This month enjoy music from Maka Gallinger\, featuring Eli Ka’imilani. \nMaka is a Hawaiian advocate\, singer-songwriter\, recording artist and accomplished performer on the Island of Hawai’i. Known for her unique ukulele play style\, versatility and powerful voice\, Maka continues to create music that is true to who she is. Her music blends tones of reggae\, latin and island sounds with lyrics that will uplift and inspire the listener. As a mother of 4\, homeschooling and living off grid\, her family and faith has shaped who she is as a person. Her lifestyle fuels her message and music for the world today as she shares songs of personal trials\, hope\, love and revolution from the inside out. \nEli Ka’imilani is the future of Hawaii’s music and next generation of kihoalu and Hawaiian slack key guitar. With a passion for sharing Hawaii’s story\, his music takes the listener on a journey through time. \n  \nEvery Third Saturday of the Month | 6 PM | Coronation Pavilion
URL:https://www.queensmarketplace.com/event/kanikapila-monthly-concert-series-27/
ATTACH;FMTTYPE=image/jpeg:https://www.queensmarketplace.com/wp-content/uploads/MakeEli.jpg
END:VEVENT
BEGIN:VEVENT
DTSTART;VALUE=DATE:20260516
DTEND;VALUE=DATE:20260517
DTSTAMP:20260420T142558
CREATED:20260415T025054Z
LAST-MODIFIED:20260415T025223Z
UID:10004802-1778889600-1778975999@www.queensmarketplace.com
SUMMARY:Sunglass Hut - Customer Week
DESCRIPTION:Join Sunglass Hut at Queens’ Marketplace for Customer Week\, featuring exclusive savings and perks for Sun Club members! \nEnjoy 25% off select full-price styles and receive a FREE Care Kit with purchase. Not a member yet? Sign up in-store for free and unlock access to this special offer. \nDon’t miss this limited-time opportunity to refresh your look with the season’s must-have shades. \nOffers valid in-store only. Restrictions apply. See store for details.
URL:https://www.queensmarketplace.com/event/5154/2026-05-16/
ATTACH;FMTTYPE=image/jpeg:https://www.queensmarketplace.com/wp-content/uploads/Core-Digital.jpg
END:VEVENT
BEGIN:VEVENT
DTSTART;VALUE=DATE:20260515
DTEND;VALUE=DATE:20260516
DTSTAMP:20260420T142558
CREATED:20260415T025054Z
LAST-MODIFIED:20260415T025223Z
UID:10004801-1778803200-1778889599@www.queensmarketplace.com
SUMMARY:Sunglass Hut - Customer Week
DESCRIPTION:Join Sunglass Hut at Queens’ Marketplace for Customer Week\, featuring exclusive savings and perks for Sun Club members! \nEnjoy 25% off select full-price styles and receive a FREE Care Kit with purchase. Not a member yet? Sign up in-store for free and unlock access to this special offer. \nDon’t miss this limited-time opportunity to refresh your look with the season’s must-have shades. \nOffers valid in-store only. Restrictions apply. See store for details.
URL:https://www.queensmarketplace.com/event/5154/2026-05-15/
ATTACH;FMTTYPE=image/jpeg:https://www.queensmarketplace.com/wp-content/uploads/Core-Digital.jpg
END:VEVENT
BEGIN:VEVENT
DTSTART;VALUE=DATE:20260514
DTEND;VALUE=DATE:20260515
DTSTAMP:20260420T142558
CREATED:20260415T025054Z
LAST-MODIFIED:20260415T025223Z
UID:10004800-1778716800-1778803199@www.queensmarketplace.com
SUMMARY:Sunglass Hut - Customer Week
DESCRIPTION:Join Sunglass Hut at Queens’ Marketplace for Customer Week\, featuring exclusive savings and perks for Sun Club members! \nEnjoy 25% off select full-price styles and receive a FREE Care Kit with purchase. Not a member yet? Sign up in-store for free and unlock access to this special offer. \nDon’t miss this limited-time opportunity to refresh your look with the season’s must-have shades. \nOffers valid in-store only. Restrictions apply. See store for details.
URL:https://www.queensmarketplace.com/event/5154/2026-05-14/
ATTACH;FMTTYPE=image/jpeg:https://www.queensmarketplace.com/wp-content/uploads/Core-Digital.jpg
END:VEVENT
BEGIN:VEVENT
DTSTART;TZID=Pacific/Honolulu:20260513T180000
DTEND;TZID=Pacific/Honolulu:20260513T190000
DTSTAMP:20260420T142558
CREATED:20260120T220122Z
LAST-MODIFIED:20260120T220123Z
UID:10004731-1778695200-1778698800@www.queensmarketplace.com
SUMMARY:Ukulele Lesson
DESCRIPTION:Learn how to play the ukulele in this fun and engaging music experience. Classes are instructed by 3x Nā Hōkū Hanohano award winning artist\, Kris Fuchigami. Ukuleles and sheet music will be provided on a first come\, first serve basis to the first 9 persons\, or feel free to bring your own ukulele! \nWeekly | 6 PM | Coronation Pavilion
URL:https://www.queensmarketplace.com/event/ukulele-lessons-2-4/2026-05-13/
ATTACH;FMTTYPE=image/jpeg:https://www.queensmarketplace.com/wp-content/uploads/Ukulele.jpg
END:VEVENT
BEGIN:VEVENT
DTSTART;VALUE=DATE:20260513
DTEND;VALUE=DATE:20260514
DTSTAMP:20260420T142558
CREATED:20260415T025054Z
LAST-MODIFIED:20260415T025223Z
UID:10004799-1778630400-1778716799@www.queensmarketplace.com
SUMMARY:Sunglass Hut - Customer Week
DESCRIPTION:Join Sunglass Hut at Queens’ Marketplace for Customer Week\, featuring exclusive savings and perks for Sun Club members! \nEnjoy 25% off select full-price styles and receive a FREE Care Kit with purchase. Not a member yet? Sign up in-store for free and unlock access to this special offer. \nDon’t miss this limited-time opportunity to refresh your look with the season’s must-have shades. \nOffers valid in-store only. Restrictions apply. See store for details.
URL:https://www.queensmarketplace.com/event/5154/2026-05-13/
ATTACH;FMTTYPE=image/jpeg:https://www.queensmarketplace.com/wp-content/uploads/Core-Digital.jpg
END:VEVENT
BEGIN:VEVENT
DTSTART;VALUE=DATE:20260512
DTEND;VALUE=DATE:20260513
DTSTAMP:20260420T142558
CREATED:20260415T025054Z
LAST-MODIFIED:20260415T025223Z
UID:10004798-1778544000-1778630399@www.queensmarketplace.com
SUMMARY:Sunglass Hut - Customer Week
DESCRIPTION:Join Sunglass Hut at Queens’ Marketplace for Customer Week\, featuring exclusive savings and perks for Sun Club members! \nEnjoy 25% off select full-price styles and receive a FREE Care Kit with purchase. Not a member yet? Sign up in-store for free and unlock access to this special offer. \nDon’t miss this limited-time opportunity to refresh your look with the season’s must-have shades. \nOffers valid in-store only. Restrictions apply. See store for details.
URL:https://www.queensmarketplace.com/event/5154/2026-05-12/
ATTACH;FMTTYPE=image/jpeg:https://www.queensmarketplace.com/wp-content/uploads/Core-Digital.jpg
END:VEVENT
BEGIN:VEVENT
DTSTART;TZID=Pacific/Honolulu:20260511T180000
DTEND;TZID=Pacific/Honolulu:20260511T190000
DTSTAMP:20260420T142558
CREATED:20251201T213340Z
LAST-MODIFIED:20251201T213340Z
UID:10003188-1778522400-1778526000@www.queensmarketplace.com
SUMMARY:Hula Show
DESCRIPTION:Enjoy a beautiful free performance at the Coronation Pavilion\, featuring both kahiko (traditional) and modern hula. Hula narrates Hawaii’s story through the graceful movements of skilled dancers. Experience this intricate ancient art of dance and chant up close and personal in a comfortable outdoor setting. \nMondays | 6 PM | Coronation Pavilion
URL:https://www.queensmarketplace.com/event/hula-show-2-2-2/2026-05-11/
ATTACH;FMTTYPE=image/jpeg:https://www.queensmarketplace.com/wp-content/uploads/SPStudio_0039.jpg
END:VEVENT
BEGIN:VEVENT
DTSTART;VALUE=DATE:20260511
DTEND;VALUE=DATE:20260512
DTSTAMP:20260420T142558
CREATED:20260415T025054Z
LAST-MODIFIED:20260415T025223Z
UID:10004797-1778457600-1778543999@www.queensmarketplace.com
SUMMARY:Sunglass Hut - Customer Week
DESCRIPTION:Join Sunglass Hut at Queens’ Marketplace for Customer Week\, featuring exclusive savings and perks for Sun Club members! \nEnjoy 25% off select full-price styles and receive a FREE Care Kit with purchase. Not a member yet? Sign up in-store for free and unlock access to this special offer. \nDon’t miss this limited-time opportunity to refresh your look with the season’s must-have shades. \nOffers valid in-store only. Restrictions apply. See store for details.
URL:https://www.queensmarketplace.com/event/5154/2026-05-11/
ATTACH;FMTTYPE=image/jpeg:https://www.queensmarketplace.com/wp-content/uploads/Core-Digital.jpg
END:VEVENT
BEGIN:VEVENT
DTSTART;VALUE=DATE:20260510
DTEND;VALUE=DATE:20260511
DTSTAMP:20260420T142558
CREATED:20260415T025054Z
LAST-MODIFIED:20260415T025223Z
UID:10004796-1778371200-1778457599@www.queensmarketplace.com
SUMMARY:Sunglass Hut - Customer Week
DESCRIPTION:Join Sunglass Hut at Queens’ Marketplace for Customer Week\, featuring exclusive savings and perks for Sun Club members! \nEnjoy 25% off select full-price styles and receive a FREE Care Kit with purchase. Not a member yet? Sign up in-store for free and unlock access to this special offer. \nDon’t miss this limited-time opportunity to refresh your look with the season’s must-have shades. \nOffers valid in-store only. Restrictions apply. See store for details.
URL:https://www.queensmarketplace.com/event/5154/2026-05-10/
ATTACH;FMTTYPE=image/jpeg:https://www.queensmarketplace.com/wp-content/uploads/Core-Digital.jpg
END:VEVENT
BEGIN:VEVENT
DTSTART;VALUE=DATE:20260509
DTEND;VALUE=DATE:20260510
DTSTAMP:20260420T142558
CREATED:20260415T025054Z
LAST-MODIFIED:20260415T025223Z
UID:10004795-1778284800-1778371199@www.queensmarketplace.com
SUMMARY:Sunglass Hut - Customer Week
DESCRIPTION:Join Sunglass Hut at Queens’ Marketplace for Customer Week\, featuring exclusive savings and perks for Sun Club members! \nEnjoy 25% off select full-price styles and receive a FREE Care Kit with purchase. Not a member yet? Sign up in-store for free and unlock access to this special offer. \nDon’t miss this limited-time opportunity to refresh your look with the season’s must-have shades. \nOffers valid in-store only. Restrictions apply. See store for details.
URL:https://www.queensmarketplace.com/event/5154/2026-05-09/
ATTACH;FMTTYPE=image/jpeg:https://www.queensmarketplace.com/wp-content/uploads/Core-Digital.jpg
END:VEVENT
BEGIN:VEVENT
DTSTART;VALUE=DATE:20260508
DTEND;VALUE=DATE:20260509
DTSTAMP:20260420T142558
CREATED:20260415T025054Z
LAST-MODIFIED:20260415T025223Z
UID:10004794-1778198400-1778284799@www.queensmarketplace.com
SUMMARY:Sunglass Hut - Customer Week
DESCRIPTION:Join Sunglass Hut at Queens’ Marketplace for Customer Week\, featuring exclusive savings and perks for Sun Club members! \nEnjoy 25% off select full-price styles and receive a FREE Care Kit with purchase. Not a member yet? Sign up in-store for free and unlock access to this special offer. \nDon’t miss this limited-time opportunity to refresh your look with the season’s must-have shades. \nOffers valid in-store only. Restrictions apply. See store for details.
URL:https://www.queensmarketplace.com/event/5154/2026-05-08/
ATTACH;FMTTYPE=image/jpeg:https://www.queensmarketplace.com/wp-content/uploads/Core-Digital.jpg
END:VEVENT
BEGIN:VEVENT
DTSTART;VALUE=DATE:20260507
DTEND;VALUE=DATE:20260508
DTSTAMP:20260420T142558
CREATED:20260415T025054Z
LAST-MODIFIED:20260415T025223Z
UID:10004793-1778112000-1778198399@www.queensmarketplace.com
SUMMARY:Sunglass Hut - Customer Week
DESCRIPTION:Join Sunglass Hut at Queens’ Marketplace for Customer Week\, featuring exclusive savings and perks for Sun Club members! \nEnjoy 25% off select full-price styles and receive a FREE Care Kit with purchase. Not a member yet? Sign up in-store for free and unlock access to this special offer. \nDon’t miss this limited-time opportunity to refresh your look with the season’s must-have shades. \nOffers valid in-store only. Restrictions apply. See store for details.
URL:https://www.queensmarketplace.com/event/5154/2026-05-07/
ATTACH;FMTTYPE=image/jpeg:https://www.queensmarketplace.com/wp-content/uploads/Core-Digital.jpg
END:VEVENT
BEGIN:VEVENT
DTSTART;TZID=Pacific/Honolulu:20260506T180000
DTEND;TZID=Pacific/Honolulu:20260506T190000
DTSTAMP:20260420T142558
CREATED:20260120T220122Z
LAST-MODIFIED:20260120T220123Z
UID:10004730-1778090400-1778094000@www.queensmarketplace.com
SUMMARY:Ukulele Lesson
DESCRIPTION:Learn how to play the ukulele in this fun and engaging music experience. Classes are instructed by 3x Nā Hōkū Hanohano award winning artist\, Kris Fuchigami. Ukuleles and sheet music will be provided on a first come\, first serve basis to the first 9 persons\, or feel free to bring your own ukulele! \nWeekly | 6 PM | Coronation Pavilion
URL:https://www.queensmarketplace.com/event/ukulele-lessons-2-4/2026-05-06/
ATTACH;FMTTYPE=image/jpeg:https://www.queensmarketplace.com/wp-content/uploads/Ukulele.jpg
END:VEVENT
BEGIN:VEVENT
DTSTART;VALUE=DATE:20260506
DTEND;VALUE=DATE:20260507
DTSTAMP:20260420T142558
CREATED:20260415T025054Z
LAST-MODIFIED:20260415T025223Z
UID:10004792-1778025600-1778111999@www.queensmarketplace.com
SUMMARY:Sunglass Hut - Customer Week
DESCRIPTION:Join Sunglass Hut at Queens’ Marketplace for Customer Week\, featuring exclusive savings and perks for Sun Club members! \nEnjoy 25% off select full-price styles and receive a FREE Care Kit with purchase. Not a member yet? Sign up in-store for free and unlock access to this special offer. \nDon’t miss this limited-time opportunity to refresh your look with the season’s must-have shades. \nOffers valid in-store only. Restrictions apply. See store for details.
URL:https://www.queensmarketplace.com/event/5154/2026-05-06/
ATTACH;FMTTYPE=image/jpeg:https://www.queensmarketplace.com/wp-content/uploads/Core-Digital.jpg
END:VEVENT
BEGIN:VEVENT
DTSTART;VALUE=DATE:20260505
DTEND;VALUE=DATE:20260506
DTSTAMP:20260420T142558
CREATED:20260415T025054Z
LAST-MODIFIED:20260415T025223Z
UID:10004791-1777939200-1778025599@www.queensmarketplace.com
SUMMARY:Sunglass Hut - Customer Week
DESCRIPTION:Join Sunglass Hut at Queens’ Marketplace for Customer Week\, featuring exclusive savings and perks for Sun Club members! \nEnjoy 25% off select full-price styles and receive a FREE Care Kit with purchase. Not a member yet? Sign up in-store for free and unlock access to this special offer. \nDon’t miss this limited-time opportunity to refresh your look with the season’s must-have shades. \nOffers valid in-store only. Restrictions apply. See store for details.
URL:https://www.queensmarketplace.com/event/5154/2026-05-05/
ATTACH;FMTTYPE=image/jpeg:https://www.queensmarketplace.com/wp-content/uploads/Core-Digital.jpg
END:VEVENT
BEGIN:VEVENT
DTSTART;TZID=Pacific/Honolulu:20260504T180000
DTEND;TZID=Pacific/Honolulu:20260504T190000
DTSTAMP:20260420T142558
CREATED:20251201T213340Z
LAST-MODIFIED:20251201T213340Z
UID:10003187-1777917600-1777921200@www.queensmarketplace.com
SUMMARY:Hula Show
DESCRIPTION:Enjoy a beautiful free performance at the Coronation Pavilion\, featuring both kahiko (traditional) and modern hula. Hula narrates Hawaii’s story through the graceful movements of skilled dancers. Experience this intricate ancient art of dance and chant up close and personal in a comfortable outdoor setting. \nMondays | 6 PM | Coronation Pavilion
URL:https://www.queensmarketplace.com/event/hula-show-2-2-2/2026-05-04/
ATTACH;FMTTYPE=image/jpeg:https://www.queensmarketplace.com/wp-content/uploads/SPStudio_0039.jpg
END:VEVENT
BEGIN:VEVENT
DTSTART;VALUE=DATE:20260504
DTEND;VALUE=DATE:20260505
DTSTAMP:20260420T142558
CREATED:20260415T025054Z
LAST-MODIFIED:20260415T025223Z
UID:10004790-1777852800-1777939199@www.queensmarketplace.com
SUMMARY:Sunglass Hut - Customer Week
DESCRIPTION:Join Sunglass Hut at Queens’ Marketplace for Customer Week\, featuring exclusive savings and perks for Sun Club members! \nEnjoy 25% off select full-price styles and receive a FREE Care Kit with purchase. Not a member yet? Sign up in-store for free and unlock access to this special offer. \nDon’t miss this limited-time opportunity to refresh your look with the season’s must-have shades. \nOffers valid in-store only. Restrictions apply. See store for details.
URL:https://www.queensmarketplace.com/event/5154/2026-05-04/
ATTACH;FMTTYPE=image/jpeg:https://www.queensmarketplace.com/wp-content/uploads/Core-Digital.jpg
END:VEVENT
BEGIN:VEVENT
DTSTART;VALUE=DATE:20260503
DTEND;VALUE=DATE:20260504
DTSTAMP:20260420T142558
CREATED:20260415T025054Z
LAST-MODIFIED:20260415T025223Z
UID:10004789-1777766400-1777852799@www.queensmarketplace.com
SUMMARY:Sunglass Hut - Customer Week
DESCRIPTION:Join Sunglass Hut at Queens’ Marketplace for Customer Week\, featuring exclusive savings and perks for Sun Club members! \nEnjoy 25% off select full-price styles and receive a FREE Care Kit with purchase. Not a member yet? Sign up in-store for free and unlock access to this special offer. \nDon’t miss this limited-time opportunity to refresh your look with the season’s must-have shades. \nOffers valid in-store only. Restrictions apply. See store for details.
URL:https://www.queensmarketplace.com/event/5154/2026-05-03/
ATTACH;FMTTYPE=image/jpeg:https://www.queensmarketplace.com/wp-content/uploads/Core-Digital.jpg
END:VEVENT
END:VCALENDAR