BEGIN:VCALENDAR
VERSION:2.0
PRODID:-//Queens&#039; Marketplace - ECPv6.15.15//NONSGML v1.0//EN
CALSCALE:GREGORIAN
METHOD:PUBLISH
X-ORIGINAL-URL:https://www.queensmarketplace.com
X-WR-CALDESC:Events for Queens&#039; Marketplace
REFRESH-INTERVAL;VALUE=DURATION:PT1H
X-Robots-Tag:noindex
X-PUBLISHED-TTL:PT1H
BEGIN:VTIMEZONE
TZID:Pacific/Honolulu
BEGIN:STANDARD
TZOFFSETFROM:-1000
TZOFFSETTO:-1000
TZNAME:HST
DTSTART:20250101T000000
END:STANDARD
END:VTIMEZONE
BEGIN:VEVENT
DTSTART;VALUE=DATE:20260619
DTEND;VALUE=DATE:20260620
DTSTAMP:20260420T073156
CREATED:20260415T025054Z
LAST-MODIFIED:20260415T025223Z
UID:10004836-1781827200-1781913599@www.queensmarketplace.com
SUMMARY:Sunglass Hut - Customer Week
DESCRIPTION:Join Sunglass Hut at Queens’ Marketplace for Customer Week\, featuring exclusive savings and perks for Sun Club members! \nEnjoy 25% off select full-price styles and receive a FREE Care Kit with purchase. Not a member yet? Sign up in-store for free and unlock access to this special offer. \nDon’t miss this limited-time opportunity to refresh your look with the season’s must-have shades. \nOffers valid in-store only. Restrictions apply. See store for details.
URL:https://www.queensmarketplace.com/event/5154/2026-06-19/
ATTACH;FMTTYPE=image/jpeg:https://www.queensmarketplace.com/wp-content/uploads/Core-Digital.jpg
END:VEVENT
BEGIN:VEVENT
DTSTART;VALUE=DATE:20260620
DTEND;VALUE=DATE:20260621
DTSTAMP:20260420T073156
CREATED:20260415T025054Z
LAST-MODIFIED:20260415T025223Z
UID:10004837-1781913600-1781999999@www.queensmarketplace.com
SUMMARY:Sunglass Hut - Customer Week
DESCRIPTION:Join Sunglass Hut at Queens’ Marketplace for Customer Week\, featuring exclusive savings and perks for Sun Club members! \nEnjoy 25% off select full-price styles and receive a FREE Care Kit with purchase. Not a member yet? Sign up in-store for free and unlock access to this special offer. \nDon’t miss this limited-time opportunity to refresh your look with the season’s must-have shades. \nOffers valid in-store only. Restrictions apply. See store for details.
URL:https://www.queensmarketplace.com/event/5154/2026-06-20/
ATTACH;FMTTYPE=image/jpeg:https://www.queensmarketplace.com/wp-content/uploads/Core-Digital.jpg
END:VEVENT
BEGIN:VEVENT
DTSTART;TZID=Pacific/Honolulu:20260620T180000
DTEND;TZID=Pacific/Honolulu:20260620T200000
DTSTAMP:20260420T073156
CREATED:20260413T205631Z
LAST-MODIFIED:20260413T205633Z
UID:10000558-1781978400-1781985600@www.queensmarketplace.com
SUMMARY:Kanikapila Monthly Concert Series
DESCRIPTION:Discover Hawai‘i Island’s best musical talents at Queens’ Marketplace’s Kanikapila Monthly Concert Series sponsored by KWXX\, every third Saturday of the month. This month features John Keawe.  \nJohn Keawe is a celebrated Hawaiian musician\, known for his soulful slack-key guitar playing and heartfelt vocals. His music blends traditional Hawaiian sounds with a contemporary flair\, captivating audiences with its emotional depth and authentic spirit of aloha. \nEvery Third Saturday of the Month | 6 PM | Coronation Pavilion
URL:https://www.queensmarketplace.com/event/kanikapila-monthly-concert-series-31/
ATTACH;FMTTYPE=image/jpeg:https://www.queensmarketplace.com/wp-content/uploads/John-Keawe.jpg
END:VEVENT
BEGIN:VEVENT
DTSTART;VALUE=DATE:20260621
DTEND;VALUE=DATE:20260622
DTSTAMP:20260420T073156
CREATED:20260415T025054Z
LAST-MODIFIED:20260415T025223Z
UID:10004838-1782000000-1782086399@www.queensmarketplace.com
SUMMARY:Sunglass Hut - Customer Week
DESCRIPTION:Join Sunglass Hut at Queens’ Marketplace for Customer Week\, featuring exclusive savings and perks for Sun Club members! \nEnjoy 25% off select full-price styles and receive a FREE Care Kit with purchase. Not a member yet? Sign up in-store for free and unlock access to this special offer. \nDon’t miss this limited-time opportunity to refresh your look with the season’s must-have shades. \nOffers valid in-store only. Restrictions apply. See store for details.
URL:https://www.queensmarketplace.com/event/5154/2026-06-21/
ATTACH;FMTTYPE=image/jpeg:https://www.queensmarketplace.com/wp-content/uploads/Core-Digital.jpg
END:VEVENT
BEGIN:VEVENT
DTSTART;VALUE=DATE:20260622
DTEND;VALUE=DATE:20260623
DTSTAMP:20260420T073156
CREATED:20260415T025054Z
LAST-MODIFIED:20260415T025223Z
UID:10004839-1782086400-1782172799@www.queensmarketplace.com
SUMMARY:Sunglass Hut - Customer Week
DESCRIPTION:Join Sunglass Hut at Queens’ Marketplace for Customer Week\, featuring exclusive savings and perks for Sun Club members! \nEnjoy 25% off select full-price styles and receive a FREE Care Kit with purchase. Not a member yet? Sign up in-store for free and unlock access to this special offer. \nDon’t miss this limited-time opportunity to refresh your look with the season’s must-have shades. \nOffers valid in-store only. Restrictions apply. See store for details.
URL:https://www.queensmarketplace.com/event/5154/2026-06-22/
ATTACH;FMTTYPE=image/jpeg:https://www.queensmarketplace.com/wp-content/uploads/Core-Digital.jpg
END:VEVENT
BEGIN:VEVENT
DTSTART;TZID=Pacific/Honolulu:20260622T180000
DTEND;TZID=Pacific/Honolulu:20260622T190000
DTSTAMP:20260420T073156
CREATED:20251201T213340Z
LAST-MODIFIED:20251201T213340Z
UID:10003194-1782151200-1782154800@www.queensmarketplace.com
SUMMARY:Hula Show
DESCRIPTION:Enjoy a beautiful free performance at the Coronation Pavilion\, featuring both kahiko (traditional) and modern hula. Hula narrates Hawaii’s story through the graceful movements of skilled dancers. Experience this intricate ancient art of dance and chant up close and personal in a comfortable outdoor setting. \nMondays | 6 PM | Coronation Pavilion
URL:https://www.queensmarketplace.com/event/hula-show-2-2-2/2026-06-22/
ATTACH;FMTTYPE=image/jpeg:https://www.queensmarketplace.com/wp-content/uploads/SPStudio_0039.jpg
END:VEVENT
BEGIN:VEVENT
DTSTART;VALUE=DATE:20260623
DTEND;VALUE=DATE:20260624
DTSTAMP:20260420T073156
CREATED:20260415T025054Z
LAST-MODIFIED:20260415T025223Z
UID:10004840-1782172800-1782259199@www.queensmarketplace.com
SUMMARY:Sunglass Hut - Customer Week
DESCRIPTION:Join Sunglass Hut at Queens’ Marketplace for Customer Week\, featuring exclusive savings and perks for Sun Club members! \nEnjoy 25% off select full-price styles and receive a FREE Care Kit with purchase. Not a member yet? Sign up in-store for free and unlock access to this special offer. \nDon’t miss this limited-time opportunity to refresh your look with the season’s must-have shades. \nOffers valid in-store only. Restrictions apply. See store for details.
URL:https://www.queensmarketplace.com/event/5154/2026-06-23/
ATTACH;FMTTYPE=image/jpeg:https://www.queensmarketplace.com/wp-content/uploads/Core-Digital.jpg
END:VEVENT
BEGIN:VEVENT
DTSTART;VALUE=DATE:20260624
DTEND;VALUE=DATE:20260625
DTSTAMP:20260420T073156
CREATED:20260415T025054Z
LAST-MODIFIED:20260415T025223Z
UID:10004841-1782259200-1782345599@www.queensmarketplace.com
SUMMARY:Sunglass Hut - Customer Week
DESCRIPTION:Join Sunglass Hut at Queens’ Marketplace for Customer Week\, featuring exclusive savings and perks for Sun Club members! \nEnjoy 25% off select full-price styles and receive a FREE Care Kit with purchase. Not a member yet? Sign up in-store for free and unlock access to this special offer. \nDon’t miss this limited-time opportunity to refresh your look with the season’s must-have shades. \nOffers valid in-store only. Restrictions apply. See store for details.
URL:https://www.queensmarketplace.com/event/5154/2026-06-24/
ATTACH;FMTTYPE=image/jpeg:https://www.queensmarketplace.com/wp-content/uploads/Core-Digital.jpg
END:VEVENT
BEGIN:VEVENT
DTSTART;TZID=Pacific/Honolulu:20260624T180000
DTEND;TZID=Pacific/Honolulu:20260624T190000
DTSTAMP:20260420T073156
CREATED:20260120T220122Z
LAST-MODIFIED:20260120T220123Z
UID:10004737-1782324000-1782327600@www.queensmarketplace.com
SUMMARY:Ukulele Lesson
DESCRIPTION:Learn how to play the ukulele in this fun and engaging music experience. Classes are instructed by 3x Nā Hōkū Hanohano award winning artist\, Kris Fuchigami. Ukuleles and sheet music will be provided on a first come\, first serve basis to the first 9 persons\, or feel free to bring your own ukulele! \nWeekly | 6 PM | Coronation Pavilion
URL:https://www.queensmarketplace.com/event/ukulele-lessons-2-4/2026-06-24/
ATTACH;FMTTYPE=image/jpeg:https://www.queensmarketplace.com/wp-content/uploads/Ukulele.jpg
END:VEVENT
BEGIN:VEVENT
DTSTART;VALUE=DATE:20260625
DTEND;VALUE=DATE:20260626
DTSTAMP:20260420T073156
CREATED:20260415T025054Z
LAST-MODIFIED:20260415T025223Z
UID:10004842-1782345600-1782431999@www.queensmarketplace.com
SUMMARY:Sunglass Hut - Customer Week
DESCRIPTION:Join Sunglass Hut at Queens’ Marketplace for Customer Week\, featuring exclusive savings and perks for Sun Club members! \nEnjoy 25% off select full-price styles and receive a FREE Care Kit with purchase. Not a member yet? Sign up in-store for free and unlock access to this special offer. \nDon’t miss this limited-time opportunity to refresh your look with the season’s must-have shades. \nOffers valid in-store only. Restrictions apply. See store for details.
URL:https://www.queensmarketplace.com/event/5154/2026-06-25/
ATTACH;FMTTYPE=image/jpeg:https://www.queensmarketplace.com/wp-content/uploads/Core-Digital.jpg
END:VEVENT
BEGIN:VEVENT
DTSTART;VALUE=DATE:20260626
DTEND;VALUE=DATE:20260627
DTSTAMP:20260420T073156
CREATED:20260415T025054Z
LAST-MODIFIED:20260415T025223Z
UID:10004843-1782432000-1782518399@www.queensmarketplace.com
SUMMARY:Sunglass Hut - Customer Week
DESCRIPTION:Join Sunglass Hut at Queens’ Marketplace for Customer Week\, featuring exclusive savings and perks for Sun Club members! \nEnjoy 25% off select full-price styles and receive a FREE Care Kit with purchase. Not a member yet? Sign up in-store for free and unlock access to this special offer. \nDon’t miss this limited-time opportunity to refresh your look with the season’s must-have shades. \nOffers valid in-store only. Restrictions apply. See store for details.
URL:https://www.queensmarketplace.com/event/5154/2026-06-26/
ATTACH;FMTTYPE=image/jpeg:https://www.queensmarketplace.com/wp-content/uploads/Core-Digital.jpg
END:VEVENT
BEGIN:VEVENT
DTSTART;VALUE=DATE:20260627
DTEND;VALUE=DATE:20260628
DTSTAMP:20260420T073156
CREATED:20260415T025054Z
LAST-MODIFIED:20260415T025223Z
UID:10004844-1782518400-1782604799@www.queensmarketplace.com
SUMMARY:Sunglass Hut - Customer Week
DESCRIPTION:Join Sunglass Hut at Queens’ Marketplace for Customer Week\, featuring exclusive savings and perks for Sun Club members! \nEnjoy 25% off select full-price styles and receive a FREE Care Kit with purchase. Not a member yet? Sign up in-store for free and unlock access to this special offer. \nDon’t miss this limited-time opportunity to refresh your look with the season’s must-have shades. \nOffers valid in-store only. Restrictions apply. See store for details.
URL:https://www.queensmarketplace.com/event/5154/2026-06-27/
ATTACH;FMTTYPE=image/jpeg:https://www.queensmarketplace.com/wp-content/uploads/Core-Digital.jpg
END:VEVENT
BEGIN:VEVENT
DTSTART;VALUE=DATE:20260628
DTEND;VALUE=DATE:20260629
DTSTAMP:20260420T073156
CREATED:20260415T025054Z
LAST-MODIFIED:20260415T025223Z
UID:10004845-1782604800-1782691199@www.queensmarketplace.com
SUMMARY:Sunglass Hut - Customer Week
DESCRIPTION:Join Sunglass Hut at Queens’ Marketplace for Customer Week\, featuring exclusive savings and perks for Sun Club members! \nEnjoy 25% off select full-price styles and receive a FREE Care Kit with purchase. Not a member yet? Sign up in-store for free and unlock access to this special offer. \nDon’t miss this limited-time opportunity to refresh your look with the season’s must-have shades. \nOffers valid in-store only. Restrictions apply. See store for details.
URL:https://www.queensmarketplace.com/event/5154/2026-06-28/
ATTACH;FMTTYPE=image/jpeg:https://www.queensmarketplace.com/wp-content/uploads/Core-Digital.jpg
END:VEVENT
BEGIN:VEVENT
DTSTART;VALUE=DATE:20260629
DTEND;VALUE=DATE:20260630
DTSTAMP:20260420T073156
CREATED:20260415T025054Z
LAST-MODIFIED:20260415T025223Z
UID:10004846-1782691200-1782777599@www.queensmarketplace.com
SUMMARY:Sunglass Hut - Customer Week
DESCRIPTION:Join Sunglass Hut at Queens’ Marketplace for Customer Week\, featuring exclusive savings and perks for Sun Club members! \nEnjoy 25% off select full-price styles and receive a FREE Care Kit with purchase. Not a member yet? Sign up in-store for free and unlock access to this special offer. \nDon’t miss this limited-time opportunity to refresh your look with the season’s must-have shades. \nOffers valid in-store only. Restrictions apply. See store for details.
URL:https://www.queensmarketplace.com/event/5154/2026-06-29/
ATTACH;FMTTYPE=image/jpeg:https://www.queensmarketplace.com/wp-content/uploads/Core-Digital.jpg
END:VEVENT
BEGIN:VEVENT
DTSTART;TZID=Pacific/Honolulu:20260629T180000
DTEND;TZID=Pacific/Honolulu:20260629T190000
DTSTAMP:20260420T073156
CREATED:20251201T213340Z
LAST-MODIFIED:20251201T213340Z
UID:10003195-1782756000-1782759600@www.queensmarketplace.com
SUMMARY:Hula Show
DESCRIPTION:Enjoy a beautiful free performance at the Coronation Pavilion\, featuring both kahiko (traditional) and modern hula. Hula narrates Hawaii’s story through the graceful movements of skilled dancers. Experience this intricate ancient art of dance and chant up close and personal in a comfortable outdoor setting. \nMondays | 6 PM | Coronation Pavilion
URL:https://www.queensmarketplace.com/event/hula-show-2-2-2/2026-06-29/
ATTACH;FMTTYPE=image/jpeg:https://www.queensmarketplace.com/wp-content/uploads/SPStudio_0039.jpg
END:VEVENT
BEGIN:VEVENT
DTSTART;VALUE=DATE:20260630
DTEND;VALUE=DATE:20260701
DTSTAMP:20260420T073156
CREATED:20260415T025054Z
LAST-MODIFIED:20260415T025223Z
UID:10004847-1782777600-1782863999@www.queensmarketplace.com
SUMMARY:Sunglass Hut - Customer Week
DESCRIPTION:Join Sunglass Hut at Queens’ Marketplace for Customer Week\, featuring exclusive savings and perks for Sun Club members! \nEnjoy 25% off select full-price styles and receive a FREE Care Kit with purchase. Not a member yet? Sign up in-store for free and unlock access to this special offer. \nDon’t miss this limited-time opportunity to refresh your look with the season’s must-have shades. \nOffers valid in-store only. Restrictions apply. See store for details.
URL:https://www.queensmarketplace.com/event/5154/2026-06-30/
ATTACH;FMTTYPE=image/jpeg:https://www.queensmarketplace.com/wp-content/uploads/Core-Digital.jpg
END:VEVENT
BEGIN:VEVENT
DTSTART;VALUE=DATE:20260701
DTEND;VALUE=DATE:20260702
DTSTAMP:20260420T073156
CREATED:20260415T025054Z
LAST-MODIFIED:20260415T025223Z
UID:10004848-1782864000-1782950399@www.queensmarketplace.com
SUMMARY:Sunglass Hut - Customer Week
DESCRIPTION:Join Sunglass Hut at Queens’ Marketplace for Customer Week\, featuring exclusive savings and perks for Sun Club members! \nEnjoy 25% off select full-price styles and receive a FREE Care Kit with purchase. Not a member yet? Sign up in-store for free and unlock access to this special offer. \nDon’t miss this limited-time opportunity to refresh your look with the season’s must-have shades. \nOffers valid in-store only. Restrictions apply. See store for details.
URL:https://www.queensmarketplace.com/event/5154/2026-07-01/
ATTACH;FMTTYPE=image/jpeg:https://www.queensmarketplace.com/wp-content/uploads/Core-Digital.jpg
END:VEVENT
BEGIN:VEVENT
DTSTART;TZID=Pacific/Honolulu:20260701T180000
DTEND;TZID=Pacific/Honolulu:20260701T190000
DTSTAMP:20260420T073156
CREATED:20260120T220122Z
LAST-MODIFIED:20260120T220123Z
UID:10004738-1782928800-1782932400@www.queensmarketplace.com
SUMMARY:Ukulele Lesson
DESCRIPTION:Learn how to play the ukulele in this fun and engaging music experience. Classes are instructed by 3x Nā Hōkū Hanohano award winning artist\, Kris Fuchigami. Ukuleles and sheet music will be provided on a first come\, first serve basis to the first 9 persons\, or feel free to bring your own ukulele! \nWeekly | 6 PM | Coronation Pavilion
URL:https://www.queensmarketplace.com/event/ukulele-lessons-2-4/2026-07-01/
ATTACH;FMTTYPE=image/jpeg:https://www.queensmarketplace.com/wp-content/uploads/Ukulele.jpg
END:VEVENT
BEGIN:VEVENT
DTSTART;VALUE=DATE:20260702
DTEND;VALUE=DATE:20260703
DTSTAMP:20260420T073156
CREATED:20260415T025054Z
LAST-MODIFIED:20260415T025223Z
UID:10004849-1782950400-1783036799@www.queensmarketplace.com
SUMMARY:Sunglass Hut - Customer Week
DESCRIPTION:Join Sunglass Hut at Queens’ Marketplace for Customer Week\, featuring exclusive savings and perks for Sun Club members! \nEnjoy 25% off select full-price styles and receive a FREE Care Kit with purchase. Not a member yet? Sign up in-store for free and unlock access to this special offer. \nDon’t miss this limited-time opportunity to refresh your look with the season’s must-have shades. \nOffers valid in-store only. Restrictions apply. See store for details.
URL:https://www.queensmarketplace.com/event/5154/2026-07-02/
ATTACH;FMTTYPE=image/jpeg:https://www.queensmarketplace.com/wp-content/uploads/Core-Digital.jpg
END:VEVENT
BEGIN:VEVENT
DTSTART;VALUE=DATE:20260703
DTEND;VALUE=DATE:20260704
DTSTAMP:20260420T073156
CREATED:20260415T025054Z
LAST-MODIFIED:20260415T025223Z
UID:10004850-1783036800-1783123199@www.queensmarketplace.com
SUMMARY:Sunglass Hut - Customer Week
DESCRIPTION:Join Sunglass Hut at Queens’ Marketplace for Customer Week\, featuring exclusive savings and perks for Sun Club members! \nEnjoy 25% off select full-price styles and receive a FREE Care Kit with purchase. Not a member yet? Sign up in-store for free and unlock access to this special offer. \nDon’t miss this limited-time opportunity to refresh your look with the season’s must-have shades. \nOffers valid in-store only. Restrictions apply. See store for details.
URL:https://www.queensmarketplace.com/event/5154/2026-07-03/
ATTACH;FMTTYPE=image/jpeg:https://www.queensmarketplace.com/wp-content/uploads/Core-Digital.jpg
END:VEVENT
BEGIN:VEVENT
DTSTART;VALUE=DATE:20260704
DTEND;VALUE=DATE:20260705
DTSTAMP:20260420T073156
CREATED:20260415T025054Z
LAST-MODIFIED:20260415T025223Z
UID:10004851-1783123200-1783209599@www.queensmarketplace.com
SUMMARY:Sunglass Hut - Customer Week
DESCRIPTION:Join Sunglass Hut at Queens’ Marketplace for Customer Week\, featuring exclusive savings and perks for Sun Club members! \nEnjoy 25% off select full-price styles and receive a FREE Care Kit with purchase. Not a member yet? Sign up in-store for free and unlock access to this special offer. \nDon’t miss this limited-time opportunity to refresh your look with the season’s must-have shades. \nOffers valid in-store only. Restrictions apply. See store for details.
URL:https://www.queensmarketplace.com/event/5154/2026-07-04/
ATTACH;FMTTYPE=image/jpeg:https://www.queensmarketplace.com/wp-content/uploads/Core-Digital.jpg
END:VEVENT
BEGIN:VEVENT
DTSTART;TZID=Pacific/Honolulu:20260704T110000
DTEND;TZID=Pacific/Honolulu:20260704T160000
DTSTAMP:20260420T073156
CREATED:20260303T012401Z
LAST-MODIFIED:20260303T012836Z
UID:10004768-1783162800-1783180800@www.queensmarketplace.com
SUMMARY:4th of July Extravaganza 2026
DESCRIPTION:Join us for the annual 4th of July family celebration at Queens’ Marketplace! This free event will feature live music with local bands\, keiki carnival games\, face painting\, and more! \n*Event details and schedule are subject to change without notice. Please Note: Due to the lack of security personnel to provide a safe environment for attendees\, Waikoloa Beach Resort will NOT be hosting the fireworks show in the Waikoloa Bowl. \n  \nMore details to follow.
URL:https://www.queensmarketplace.com/event/4th-of-july-extravaganza-2026/
ATTACH;FMTTYPE=image/jpeg:https://www.queensmarketplace.com/wp-content/uploads/HAW_9838-57.jpg
END:VEVENT
BEGIN:VEVENT
DTSTART;VALUE=DATE:20260705
DTEND;VALUE=DATE:20260706
DTSTAMP:20260420T073156
CREATED:20260415T025054Z
LAST-MODIFIED:20260415T025223Z
UID:10004852-1783209600-1783295999@www.queensmarketplace.com
SUMMARY:Sunglass Hut - Customer Week
DESCRIPTION:Join Sunglass Hut at Queens’ Marketplace for Customer Week\, featuring exclusive savings and perks for Sun Club members! \nEnjoy 25% off select full-price styles and receive a FREE Care Kit with purchase. Not a member yet? Sign up in-store for free and unlock access to this special offer. \nDon’t miss this limited-time opportunity to refresh your look with the season’s must-have shades. \nOffers valid in-store only. Restrictions apply. See store for details.
URL:https://www.queensmarketplace.com/event/5154/2026-07-05/
ATTACH;FMTTYPE=image/jpeg:https://www.queensmarketplace.com/wp-content/uploads/Core-Digital.jpg
END:VEVENT
BEGIN:VEVENT
DTSTART;VALUE=DATE:20260706
DTEND;VALUE=DATE:20260707
DTSTAMP:20260420T073156
CREATED:20260415T025054Z
LAST-MODIFIED:20260415T025223Z
UID:10004853-1783296000-1783382399@www.queensmarketplace.com
SUMMARY:Sunglass Hut - Customer Week
DESCRIPTION:Join Sunglass Hut at Queens’ Marketplace for Customer Week\, featuring exclusive savings and perks for Sun Club members! \nEnjoy 25% off select full-price styles and receive a FREE Care Kit with purchase. Not a member yet? Sign up in-store for free and unlock access to this special offer. \nDon’t miss this limited-time opportunity to refresh your look with the season’s must-have shades. \nOffers valid in-store only. Restrictions apply. See store for details.
URL:https://www.queensmarketplace.com/event/5154/2026-07-06/
ATTACH;FMTTYPE=image/jpeg:https://www.queensmarketplace.com/wp-content/uploads/Core-Digital.jpg
END:VEVENT
BEGIN:VEVENT
DTSTART;TZID=Pacific/Honolulu:20260706T180000
DTEND;TZID=Pacific/Honolulu:20260706T190000
DTSTAMP:20260420T073156
CREATED:20251201T213340Z
LAST-MODIFIED:20251201T213340Z
UID:10003196-1783360800-1783364400@www.queensmarketplace.com
SUMMARY:Hula Show
DESCRIPTION:Enjoy a beautiful free performance at the Coronation Pavilion\, featuring both kahiko (traditional) and modern hula. Hula narrates Hawaii’s story through the graceful movements of skilled dancers. Experience this intricate ancient art of dance and chant up close and personal in a comfortable outdoor setting. \nMondays | 6 PM | Coronation Pavilion
URL:https://www.queensmarketplace.com/event/hula-show-2-2-2/2026-07-06/
ATTACH;FMTTYPE=image/jpeg:https://www.queensmarketplace.com/wp-content/uploads/SPStudio_0039.jpg
END:VEVENT
BEGIN:VEVENT
DTSTART;VALUE=DATE:20260707
DTEND;VALUE=DATE:20260708
DTSTAMP:20260420T073156
CREATED:20260415T025054Z
LAST-MODIFIED:20260415T025223Z
UID:10004854-1783382400-1783468799@www.queensmarketplace.com
SUMMARY:Sunglass Hut - Customer Week
DESCRIPTION:Join Sunglass Hut at Queens’ Marketplace for Customer Week\, featuring exclusive savings and perks for Sun Club members! \nEnjoy 25% off select full-price styles and receive a FREE Care Kit with purchase. Not a member yet? Sign up in-store for free and unlock access to this special offer. \nDon’t miss this limited-time opportunity to refresh your look with the season’s must-have shades. \nOffers valid in-store only. Restrictions apply. See store for details.
URL:https://www.queensmarketplace.com/event/5154/2026-07-07/
ATTACH;FMTTYPE=image/jpeg:https://www.queensmarketplace.com/wp-content/uploads/Core-Digital.jpg
END:VEVENT
BEGIN:VEVENT
DTSTART;VALUE=DATE:20260708
DTEND;VALUE=DATE:20260709
DTSTAMP:20260420T073156
CREATED:20260415T025054Z
LAST-MODIFIED:20260415T025223Z
UID:10004855-1783468800-1783555199@www.queensmarketplace.com
SUMMARY:Sunglass Hut - Customer Week
DESCRIPTION:Join Sunglass Hut at Queens’ Marketplace for Customer Week\, featuring exclusive savings and perks for Sun Club members! \nEnjoy 25% off select full-price styles and receive a FREE Care Kit with purchase. Not a member yet? Sign up in-store for free and unlock access to this special offer. \nDon’t miss this limited-time opportunity to refresh your look with the season’s must-have shades. \nOffers valid in-store only. Restrictions apply. See store for details.
URL:https://www.queensmarketplace.com/event/5154/2026-07-08/
ATTACH;FMTTYPE=image/jpeg:https://www.queensmarketplace.com/wp-content/uploads/Core-Digital.jpg
END:VEVENT
BEGIN:VEVENT
DTSTART;TZID=Pacific/Honolulu:20260708T180000
DTEND;TZID=Pacific/Honolulu:20260708T190000
DTSTAMP:20260420T073156
CREATED:20260120T220122Z
LAST-MODIFIED:20260120T220123Z
UID:10004739-1783533600-1783537200@www.queensmarketplace.com
SUMMARY:Ukulele Lesson
DESCRIPTION:Learn how to play the ukulele in this fun and engaging music experience. Classes are instructed by 3x Nā Hōkū Hanohano award winning artist\, Kris Fuchigami. Ukuleles and sheet music will be provided on a first come\, first serve basis to the first 9 persons\, or feel free to bring your own ukulele! \nWeekly | 6 PM | Coronation Pavilion
URL:https://www.queensmarketplace.com/event/ukulele-lessons-2-4/2026-07-08/
ATTACH;FMTTYPE=image/jpeg:https://www.queensmarketplace.com/wp-content/uploads/Ukulele.jpg
END:VEVENT
BEGIN:VEVENT
DTSTART;VALUE=DATE:20260709
DTEND;VALUE=DATE:20260710
DTSTAMP:20260420T073156
CREATED:20260415T025054Z
LAST-MODIFIED:20260415T025223Z
UID:10004856-1783555200-1783641599@www.queensmarketplace.com
SUMMARY:Sunglass Hut - Customer Week
DESCRIPTION:Join Sunglass Hut at Queens’ Marketplace for Customer Week\, featuring exclusive savings and perks for Sun Club members! \nEnjoy 25% off select full-price styles and receive a FREE Care Kit with purchase. Not a member yet? Sign up in-store for free and unlock access to this special offer. \nDon’t miss this limited-time opportunity to refresh your look with the season’s must-have shades. \nOffers valid in-store only. Restrictions apply. See store for details.
URL:https://www.queensmarketplace.com/event/5154/2026-07-09/
ATTACH;FMTTYPE=image/jpeg:https://www.queensmarketplace.com/wp-content/uploads/Core-Digital.jpg
END:VEVENT
BEGIN:VEVENT
DTSTART;VALUE=DATE:20260710
DTEND;VALUE=DATE:20260711
DTSTAMP:20260420T073156
CREATED:20260415T025054Z
LAST-MODIFIED:20260415T025223Z
UID:10004857-1783641600-1783727999@www.queensmarketplace.com
SUMMARY:Sunglass Hut - Customer Week
DESCRIPTION:Join Sunglass Hut at Queens’ Marketplace for Customer Week\, featuring exclusive savings and perks for Sun Club members! \nEnjoy 25% off select full-price styles and receive a FREE Care Kit with purchase. Not a member yet? Sign up in-store for free and unlock access to this special offer. \nDon’t miss this limited-time opportunity to refresh your look with the season’s must-have shades. \nOffers valid in-store only. Restrictions apply. See store for details.
URL:https://www.queensmarketplace.com/event/5154/2026-07-10/
ATTACH;FMTTYPE=image/jpeg:https://www.queensmarketplace.com/wp-content/uploads/Core-Digital.jpg
END:VEVENT
END:VCALENDAR