BEGIN:VCALENDAR
VERSION:2.0
PRODID:-//Queens&#039; Marketplace - ECPv6.15.15//NONSGML v1.0//EN
CALSCALE:GREGORIAN
METHOD:PUBLISH
X-ORIGINAL-URL:https://www.queensmarketplace.com
X-WR-CALDESC:Events for Queens&#039; Marketplace
REFRESH-INTERVAL;VALUE=DURATION:PT1H
X-Robots-Tag:noindex
X-PUBLISHED-TTL:PT1H
BEGIN:VTIMEZONE
TZID:Pacific/Honolulu
BEGIN:STANDARD
TZOFFSETFROM:-1000
TZOFFSETTO:-1000
TZNAME:HST
DTSTART:20290101T000000
END:STANDARD
END:VTIMEZONE
BEGIN:VEVENT
DTSTART;TZID=Pacific/Honolulu:20300107T180000
DTEND;TZID=Pacific/Honolulu:20300107T190000
DTSTAMP:20260425T090611
CREATED:20251201T213340Z
LAST-MODIFIED:20251201T213340Z
UID:10004197-1894039200-1894042800@www.queensmarketplace.com
SUMMARY:Hula Show
DESCRIPTION:Enjoy a beautiful free performance at the Coronation Pavilion\, featuring both kahiko (traditional) and modern hula. Hula narrates Hawaii’s story through the graceful movements of skilled dancers. Experience this intricate ancient art of dance and chant up close and personal in a comfortable outdoor setting. \nMondays | 6 PM | Coronation Pavilion
URL:https://www.queensmarketplace.com/event/hula-show-2-2-2/2030-01-07/
ATTACH;FMTTYPE=image/jpeg:https://www.queensmarketplace.com/wp-content/uploads/SPStudio_0039.jpg
END:VEVENT
BEGIN:VEVENT
DTSTART;TZID=Pacific/Honolulu:20300114T180000
DTEND;TZID=Pacific/Honolulu:20300114T190000
DTSTAMP:20260425T090611
CREATED:20251201T213340Z
LAST-MODIFIED:20251201T213340Z
UID:10004198-1894644000-1894647600@www.queensmarketplace.com
SUMMARY:Hula Show
DESCRIPTION:Enjoy a beautiful free performance at the Coronation Pavilion\, featuring both kahiko (traditional) and modern hula. Hula narrates Hawaii’s story through the graceful movements of skilled dancers. Experience this intricate ancient art of dance and chant up close and personal in a comfortable outdoor setting. \nMondays | 6 PM | Coronation Pavilion
URL:https://www.queensmarketplace.com/event/hula-show-2-2-2/2030-01-14/
ATTACH;FMTTYPE=image/jpeg:https://www.queensmarketplace.com/wp-content/uploads/SPStudio_0039.jpg
END:VEVENT
BEGIN:VEVENT
DTSTART;TZID=Pacific/Honolulu:20300121T180000
DTEND;TZID=Pacific/Honolulu:20300121T190000
DTSTAMP:20260425T090611
CREATED:20251201T213340Z
LAST-MODIFIED:20251201T213340Z
UID:10004199-1895248800-1895252400@www.queensmarketplace.com
SUMMARY:Hula Show
DESCRIPTION:Enjoy a beautiful free performance at the Coronation Pavilion\, featuring both kahiko (traditional) and modern hula. Hula narrates Hawaii’s story through the graceful movements of skilled dancers. Experience this intricate ancient art of dance and chant up close and personal in a comfortable outdoor setting. \nMondays | 6 PM | Coronation Pavilion
URL:https://www.queensmarketplace.com/event/hula-show-2-2-2/2030-01-21/
ATTACH;FMTTYPE=image/jpeg:https://www.queensmarketplace.com/wp-content/uploads/SPStudio_0039.jpg
END:VEVENT
BEGIN:VEVENT
DTSTART;TZID=Pacific/Honolulu:20300128T180000
DTEND;TZID=Pacific/Honolulu:20300128T190000
DTSTAMP:20260425T090611
CREATED:20251201T213340Z
LAST-MODIFIED:20251201T213340Z
UID:10004200-1895853600-1895857200@www.queensmarketplace.com
SUMMARY:Hula Show
DESCRIPTION:Enjoy a beautiful free performance at the Coronation Pavilion\, featuring both kahiko (traditional) and modern hula. Hula narrates Hawaii’s story through the graceful movements of skilled dancers. Experience this intricate ancient art of dance and chant up close and personal in a comfortable outdoor setting. \nMondays | 6 PM | Coronation Pavilion
URL:https://www.queensmarketplace.com/event/hula-show-2-2-2/2030-01-28/
ATTACH;FMTTYPE=image/jpeg:https://www.queensmarketplace.com/wp-content/uploads/SPStudio_0039.jpg
END:VEVENT
END:VCALENDAR