BEGIN:VCALENDAR
VERSION:2.0
PRODID:-//Queens&#039; Marketplace - ECPv6.15.15//NONSGML v1.0//EN
CALSCALE:GREGORIAN
METHOD:PUBLISH
X-ORIGINAL-URL:https://www.queensmarketplace.com
X-WR-CALDESC:Events for Queens&#039; Marketplace
REFRESH-INTERVAL;VALUE=DURATION:PT1H
X-Robots-Tag:noindex
X-PUBLISHED-TTL:PT1H
BEGIN:VTIMEZONE
TZID:Pacific/Honolulu
BEGIN:STANDARD
TZOFFSETFROM:-1000
TZOFFSETTO:-1000
TZNAME:HST
DTSTART:20280101T000000
END:STANDARD
END:VTIMEZONE
BEGIN:VEVENT
DTSTART;TZID=Pacific/Honolulu:20290205T180000
DTEND;TZID=Pacific/Honolulu:20290205T190000
DTSTAMP:20260422T080458
CREATED:20251201T213340Z
LAST-MODIFIED:20251201T213340Z
UID:10003331-1865008800-1865012400@www.queensmarketplace.com
SUMMARY:Hula Show
DESCRIPTION:Enjoy a beautiful free performance at the Coronation Pavilion\, featuring both kahiko (traditional) and modern hula. Hula narrates Hawaii’s story through the graceful movements of skilled dancers. Experience this intricate ancient art of dance and chant up close and personal in a comfortable outdoor setting. \nMondays | 6 PM | Coronation Pavilion
URL:https://www.queensmarketplace.com/event/hula-show-2-2-2/2029-02-05/
ATTACH;FMTTYPE=image/jpeg:https://www.queensmarketplace.com/wp-content/uploads/SPStudio_0039.jpg
END:VEVENT
BEGIN:VEVENT
DTSTART;TZID=Pacific/Honolulu:20290212T180000
DTEND;TZID=Pacific/Honolulu:20290212T190000
DTSTAMP:20260422T080458
CREATED:20251201T213340Z
LAST-MODIFIED:20251201T213340Z
UID:10003332-1865613600-1865617200@www.queensmarketplace.com
SUMMARY:Hula Show
DESCRIPTION:Enjoy a beautiful free performance at the Coronation Pavilion\, featuring both kahiko (traditional) and modern hula. Hula narrates Hawaii’s story through the graceful movements of skilled dancers. Experience this intricate ancient art of dance and chant up close and personal in a comfortable outdoor setting. \nMondays | 6 PM | Coronation Pavilion
URL:https://www.queensmarketplace.com/event/hula-show-2-2-2/2029-02-12/
ATTACH;FMTTYPE=image/jpeg:https://www.queensmarketplace.com/wp-content/uploads/SPStudio_0039.jpg
END:VEVENT
BEGIN:VEVENT
DTSTART;TZID=Pacific/Honolulu:20290219T180000
DTEND;TZID=Pacific/Honolulu:20290219T190000
DTSTAMP:20260422T080458
CREATED:20251201T213340Z
LAST-MODIFIED:20251201T213340Z
UID:10003333-1866218400-1866222000@www.queensmarketplace.com
SUMMARY:Hula Show
DESCRIPTION:Enjoy a beautiful free performance at the Coronation Pavilion\, featuring both kahiko (traditional) and modern hula. Hula narrates Hawaii’s story through the graceful movements of skilled dancers. Experience this intricate ancient art of dance and chant up close and personal in a comfortable outdoor setting. \nMondays | 6 PM | Coronation Pavilion
URL:https://www.queensmarketplace.com/event/hula-show-2-2-2/2029-02-19/
ATTACH;FMTTYPE=image/jpeg:https://www.queensmarketplace.com/wp-content/uploads/SPStudio_0039.jpg
END:VEVENT
BEGIN:VEVENT
DTSTART;TZID=Pacific/Honolulu:20290226T180000
DTEND;TZID=Pacific/Honolulu:20290226T190000
DTSTAMP:20260422T080458
CREATED:20251201T213340Z
LAST-MODIFIED:20251201T213340Z
UID:10003334-1866823200-1866826800@www.queensmarketplace.com
SUMMARY:Hula Show
DESCRIPTION:Enjoy a beautiful free performance at the Coronation Pavilion\, featuring both kahiko (traditional) and modern hula. Hula narrates Hawaii’s story through the graceful movements of skilled dancers. Experience this intricate ancient art of dance and chant up close and personal in a comfortable outdoor setting. \nMondays | 6 PM | Coronation Pavilion
URL:https://www.queensmarketplace.com/event/hula-show-2-2-2/2029-02-26/
ATTACH;FMTTYPE=image/jpeg:https://www.queensmarketplace.com/wp-content/uploads/SPStudio_0039.jpg
END:VEVENT
END:VCALENDAR