BEGIN:VCALENDAR
VERSION:2.0
PRODID:-//Queens&#039; Marketplace - ECPv6.15.15//NONSGML v1.0//EN
CALSCALE:GREGORIAN
METHOD:PUBLISH
X-WR-CALNAME:Queens&#039; Marketplace
X-ORIGINAL-URL:https://www.queensmarketplace.com
X-WR-CALDESC:Events for Queens&#039; Marketplace
REFRESH-INTERVAL;VALUE=DURATION:PT1H
X-Robots-Tag:noindex
X-PUBLISHED-TTL:PT1H
BEGIN:VTIMEZONE
TZID:Pacific/Honolulu
BEGIN:STANDARD
TZOFFSETFROM:-1000
TZOFFSETTO:-1000
TZNAME:HST
DTSTART:20270101T000000
END:STANDARD
END:VTIMEZONE
BEGIN:VEVENT
DTSTART;TZID=Pacific/Honolulu:20280501T180000
DTEND;TZID=Pacific/Honolulu:20280501T190000
DTSTAMP:20260421T172012
CREATED:20251201T213340Z
LAST-MODIFIED:20251201T213340Z
UID:10003291-1840816800-1840820400@www.queensmarketplace.com
SUMMARY:Hula Show
DESCRIPTION:Enjoy a beautiful free performance at the Coronation Pavilion\, featuring both kahiko (traditional) and modern hula. Hula narrates Hawaii’s story through the graceful movements of skilled dancers. Experience this intricate ancient art of dance and chant up close and personal in a comfortable outdoor setting. \nMondays | 6 PM | Coronation Pavilion
URL:https://www.queensmarketplace.com/event/hula-show-2-2-2/2028-05-01/
ATTACH;FMTTYPE=image/jpeg:https://www.queensmarketplace.com/wp-content/uploads/SPStudio_0039.jpg
END:VEVENT
BEGIN:VEVENT
DTSTART;TZID=Pacific/Honolulu:20280508T180000
DTEND;TZID=Pacific/Honolulu:20280508T190000
DTSTAMP:20260421T172012
CREATED:20251201T213340Z
LAST-MODIFIED:20251201T213340Z
UID:10003292-1841421600-1841425200@www.queensmarketplace.com
SUMMARY:Hula Show
DESCRIPTION:Enjoy a beautiful free performance at the Coronation Pavilion\, featuring both kahiko (traditional) and modern hula. Hula narrates Hawaii’s story through the graceful movements of skilled dancers. Experience this intricate ancient art of dance and chant up close and personal in a comfortable outdoor setting. \nMondays | 6 PM | Coronation Pavilion
URL:https://www.queensmarketplace.com/event/hula-show-2-2-2/2028-05-08/
ATTACH;FMTTYPE=image/jpeg:https://www.queensmarketplace.com/wp-content/uploads/SPStudio_0039.jpg
END:VEVENT
BEGIN:VEVENT
DTSTART;TZID=Pacific/Honolulu:20280515T180000
DTEND;TZID=Pacific/Honolulu:20280515T190000
DTSTAMP:20260421T172012
CREATED:20251201T213340Z
LAST-MODIFIED:20251201T213340Z
UID:10003293-1842026400-1842030000@www.queensmarketplace.com
SUMMARY:Hula Show
DESCRIPTION:Enjoy a beautiful free performance at the Coronation Pavilion\, featuring both kahiko (traditional) and modern hula. Hula narrates Hawaii’s story through the graceful movements of skilled dancers. Experience this intricate ancient art of dance and chant up close and personal in a comfortable outdoor setting. \nMondays | 6 PM | Coronation Pavilion
URL:https://www.queensmarketplace.com/event/hula-show-2-2-2/2028-05-15/
ATTACH;FMTTYPE=image/jpeg:https://www.queensmarketplace.com/wp-content/uploads/SPStudio_0039.jpg
END:VEVENT
BEGIN:VEVENT
DTSTART;TZID=Pacific/Honolulu:20280520T180000
DTEND;TZID=Pacific/Honolulu:20280520T200000
DTSTAMP:20260421T172012
CREATED:20231023T203402Z
LAST-MODIFIED:20240129T170756Z
UID:10000581-1842458400-1842465600@www.queensmarketplace.com
SUMMARY:Kanikapila Monthly Concert Series
DESCRIPTION:Discover Hawai‘i Island’s best musical talents at Queens’ Marketplace’s Kanikapila Monthly Concert Series sponsored by KWXX\, every third Saturday of the month. \nEvery Third Saturday of the Month | 6 PM | Coronation Pavilion
URL:https://www.queensmarketplace.com/event/kanikapila-monthly-concert-series/2028-05-20/
ATTACH;FMTTYPE=image/jpeg:https://www.queensmarketplace.com/wp-content/uploads/QMP-Monthly-Concert-Series-generic.jpg
END:VEVENT
BEGIN:VEVENT
DTSTART;TZID=Pacific/Honolulu:20280522T180000
DTEND;TZID=Pacific/Honolulu:20280522T190000
DTSTAMP:20260421T172012
CREATED:20251201T213340Z
LAST-MODIFIED:20251201T213340Z
UID:10003294-1842631200-1842634800@www.queensmarketplace.com
SUMMARY:Hula Show
DESCRIPTION:Enjoy a beautiful free performance at the Coronation Pavilion\, featuring both kahiko (traditional) and modern hula. Hula narrates Hawaii’s story through the graceful movements of skilled dancers. Experience this intricate ancient art of dance and chant up close and personal in a comfortable outdoor setting. \nMondays | 6 PM | Coronation Pavilion
URL:https://www.queensmarketplace.com/event/hula-show-2-2-2/2028-05-22/
ATTACH;FMTTYPE=image/jpeg:https://www.queensmarketplace.com/wp-content/uploads/SPStudio_0039.jpg
END:VEVENT
BEGIN:VEVENT
DTSTART;TZID=Pacific/Honolulu:20280529T180000
DTEND;TZID=Pacific/Honolulu:20280529T190000
DTSTAMP:20260421T172012
CREATED:20251201T213340Z
LAST-MODIFIED:20251201T213340Z
UID:10003295-1843236000-1843239600@www.queensmarketplace.com
SUMMARY:Hula Show
DESCRIPTION:Enjoy a beautiful free performance at the Coronation Pavilion\, featuring both kahiko (traditional) and modern hula. Hula narrates Hawaii’s story through the graceful movements of skilled dancers. Experience this intricate ancient art of dance and chant up close and personal in a comfortable outdoor setting. \nMondays | 6 PM | Coronation Pavilion
URL:https://www.queensmarketplace.com/event/hula-show-2-2-2/2028-05-29/
ATTACH;FMTTYPE=image/jpeg:https://www.queensmarketplace.com/wp-content/uploads/SPStudio_0039.jpg
END:VEVENT
END:VCALENDAR