BEGIN:VCALENDAR
VERSION:2.0
PRODID:-//Queens&#039; Marketplace - ECPv6.15.15//NONSGML v1.0//EN
CALSCALE:GREGORIAN
METHOD:PUBLISH
X-ORIGINAL-URL:https://www.queensmarketplace.com
X-WR-CALDESC:Events for Queens&#039; Marketplace
REFRESH-INTERVAL;VALUE=DURATION:PT1H
X-Robots-Tag:noindex
X-PUBLISHED-TTL:PT1H
BEGIN:VTIMEZONE
TZID:Pacific/Honolulu
BEGIN:STANDARD
TZOFFSETFROM:-1000
TZOFFSETTO:-1000
TZNAME:HST
DTSTART:20250101T000000
END:STANDARD
END:VTIMEZONE
BEGIN:VEVENT
DTSTART;VALUE=DATE:20261101
DTEND;VALUE=DATE:20261102
DTSTAMP:20260420T105215
CREATED:20260415T025054Z
LAST-MODIFIED:20260415T025223Z
UID:10004971-1793491200-1793577599@www.queensmarketplace.com
SUMMARY:Sunglass Hut - Customer Week
DESCRIPTION:Join Sunglass Hut at Queens’ Marketplace for Customer Week\, featuring exclusive savings and perks for Sun Club members! \nEnjoy 25% off select full-price styles and receive a FREE Care Kit with purchase. Not a member yet? Sign up in-store for free and unlock access to this special offer. \nDon’t miss this limited-time opportunity to refresh your look with the season’s must-have shades. \nOffers valid in-store only. Restrictions apply. See store for details.
URL:https://www.queensmarketplace.com/event/5154/2026-11-01/
ATTACH;FMTTYPE=image/jpeg:https://www.queensmarketplace.com/wp-content/uploads/Core-Digital.jpg
END:VEVENT
BEGIN:VEVENT
DTSTART;VALUE=DATE:20261102
DTEND;VALUE=DATE:20261103
DTSTAMP:20260420T105215
CREATED:20260415T025054Z
LAST-MODIFIED:20260415T025223Z
UID:10004972-1793577600-1793663999@www.queensmarketplace.com
SUMMARY:Sunglass Hut - Customer Week
DESCRIPTION:Join Sunglass Hut at Queens’ Marketplace for Customer Week\, featuring exclusive savings and perks for Sun Club members! \nEnjoy 25% off select full-price styles and receive a FREE Care Kit with purchase. Not a member yet? Sign up in-store for free and unlock access to this special offer. \nDon’t miss this limited-time opportunity to refresh your look with the season’s must-have shades. \nOffers valid in-store only. Restrictions apply. See store for details.
URL:https://www.queensmarketplace.com/event/5154/2026-11-02/
ATTACH;FMTTYPE=image/jpeg:https://www.queensmarketplace.com/wp-content/uploads/Core-Digital.jpg
END:VEVENT
BEGIN:VEVENT
DTSTART;TZID=Pacific/Honolulu:20261102T180000
DTEND;TZID=Pacific/Honolulu:20261102T190000
DTSTAMP:20260420T105215
CREATED:20251201T213340Z
LAST-MODIFIED:20251201T213340Z
UID:10003213-1793642400-1793646000@www.queensmarketplace.com
SUMMARY:Hula Show
DESCRIPTION:Enjoy a beautiful free performance at the Coronation Pavilion\, featuring both kahiko (traditional) and modern hula. Hula narrates Hawaii’s story through the graceful movements of skilled dancers. Experience this intricate ancient art of dance and chant up close and personal in a comfortable outdoor setting. \nMondays | 6 PM | Coronation Pavilion
URL:https://www.queensmarketplace.com/event/hula-show-2-2-2/2026-11-02/
ATTACH;FMTTYPE=image/jpeg:https://www.queensmarketplace.com/wp-content/uploads/SPStudio_0039.jpg
END:VEVENT
BEGIN:VEVENT
DTSTART;VALUE=DATE:20261103
DTEND;VALUE=DATE:20261104
DTSTAMP:20260420T105215
CREATED:20260415T025054Z
LAST-MODIFIED:20260415T025223Z
UID:10004973-1793664000-1793750399@www.queensmarketplace.com
SUMMARY:Sunglass Hut - Customer Week
DESCRIPTION:Join Sunglass Hut at Queens’ Marketplace for Customer Week\, featuring exclusive savings and perks for Sun Club members! \nEnjoy 25% off select full-price styles and receive a FREE Care Kit with purchase. Not a member yet? Sign up in-store for free and unlock access to this special offer. \nDon’t miss this limited-time opportunity to refresh your look with the season’s must-have shades. \nOffers valid in-store only. Restrictions apply. See store for details.
URL:https://www.queensmarketplace.com/event/5154/2026-11-03/
ATTACH;FMTTYPE=image/jpeg:https://www.queensmarketplace.com/wp-content/uploads/Core-Digital.jpg
END:VEVENT
BEGIN:VEVENT
DTSTART;VALUE=DATE:20261104
DTEND;VALUE=DATE:20261105
DTSTAMP:20260420T105215
CREATED:20260415T025054Z
LAST-MODIFIED:20260415T025223Z
UID:10004974-1793750400-1793836799@www.queensmarketplace.com
SUMMARY:Sunglass Hut - Customer Week
DESCRIPTION:Join Sunglass Hut at Queens’ Marketplace for Customer Week\, featuring exclusive savings and perks for Sun Club members! \nEnjoy 25% off select full-price styles and receive a FREE Care Kit with purchase. Not a member yet? Sign up in-store for free and unlock access to this special offer. \nDon’t miss this limited-time opportunity to refresh your look with the season’s must-have shades. \nOffers valid in-store only. Restrictions apply. See store for details.
URL:https://www.queensmarketplace.com/event/5154/2026-11-04/
ATTACH;FMTTYPE=image/jpeg:https://www.queensmarketplace.com/wp-content/uploads/Core-Digital.jpg
END:VEVENT
BEGIN:VEVENT
DTSTART;TZID=Pacific/Honolulu:20261104T180000
DTEND;TZID=Pacific/Honolulu:20261104T190000
DTSTAMP:20260420T105215
CREATED:20260120T220122Z
LAST-MODIFIED:20260120T220123Z
UID:10004756-1793815200-1793818800@www.queensmarketplace.com
SUMMARY:Ukulele Lesson
DESCRIPTION:Learn how to play the ukulele in this fun and engaging music experience. Classes are instructed by 3x Nā Hōkū Hanohano award winning artist\, Kris Fuchigami. Ukuleles and sheet music will be provided on a first come\, first serve basis to the first 9 persons\, or feel free to bring your own ukulele! \nWeekly | 6 PM | Coronation Pavilion
URL:https://www.queensmarketplace.com/event/ukulele-lessons-2-4/2026-11-04/
ATTACH;FMTTYPE=image/jpeg:https://www.queensmarketplace.com/wp-content/uploads/Ukulele.jpg
END:VEVENT
BEGIN:VEVENT
DTSTART;VALUE=DATE:20261105
DTEND;VALUE=DATE:20261106
DTSTAMP:20260420T105215
CREATED:20260415T025054Z
LAST-MODIFIED:20260415T025223Z
UID:10004975-1793836800-1793923199@www.queensmarketplace.com
SUMMARY:Sunglass Hut - Customer Week
DESCRIPTION:Join Sunglass Hut at Queens’ Marketplace for Customer Week\, featuring exclusive savings and perks for Sun Club members! \nEnjoy 25% off select full-price styles and receive a FREE Care Kit with purchase. Not a member yet? Sign up in-store for free and unlock access to this special offer. \nDon’t miss this limited-time opportunity to refresh your look with the season’s must-have shades. \nOffers valid in-store only. Restrictions apply. See store for details.
URL:https://www.queensmarketplace.com/event/5154/2026-11-05/
ATTACH;FMTTYPE=image/jpeg:https://www.queensmarketplace.com/wp-content/uploads/Core-Digital.jpg
END:VEVENT
BEGIN:VEVENT
DTSTART;VALUE=DATE:20261106
DTEND;VALUE=DATE:20261107
DTSTAMP:20260420T105215
CREATED:20260415T025054Z
LAST-MODIFIED:20260415T025223Z
UID:10004976-1793923200-1794009599@www.queensmarketplace.com
SUMMARY:Sunglass Hut - Customer Week
DESCRIPTION:Join Sunglass Hut at Queens’ Marketplace for Customer Week\, featuring exclusive savings and perks for Sun Club members! \nEnjoy 25% off select full-price styles and receive a FREE Care Kit with purchase. Not a member yet? Sign up in-store for free and unlock access to this special offer. \nDon’t miss this limited-time opportunity to refresh your look with the season’s must-have shades. \nOffers valid in-store only. Restrictions apply. See store for details.
URL:https://www.queensmarketplace.com/event/5154/2026-11-06/
ATTACH;FMTTYPE=image/jpeg:https://www.queensmarketplace.com/wp-content/uploads/Core-Digital.jpg
END:VEVENT
BEGIN:VEVENT
DTSTART;VALUE=DATE:20261107
DTEND;VALUE=DATE:20261108
DTSTAMP:20260420T105215
CREATED:20260415T025054Z
LAST-MODIFIED:20260415T025223Z
UID:10004977-1794009600-1794095999@www.queensmarketplace.com
SUMMARY:Sunglass Hut - Customer Week
DESCRIPTION:Join Sunglass Hut at Queens’ Marketplace for Customer Week\, featuring exclusive savings and perks for Sun Club members! \nEnjoy 25% off select full-price styles and receive a FREE Care Kit with purchase. Not a member yet? Sign up in-store for free and unlock access to this special offer. \nDon’t miss this limited-time opportunity to refresh your look with the season’s must-have shades. \nOffers valid in-store only. Restrictions apply. See store for details.
URL:https://www.queensmarketplace.com/event/5154/2026-11-07/
ATTACH;FMTTYPE=image/jpeg:https://www.queensmarketplace.com/wp-content/uploads/Core-Digital.jpg
END:VEVENT
BEGIN:VEVENT
DTSTART;VALUE=DATE:20261108
DTEND;VALUE=DATE:20261109
DTSTAMP:20260420T105215
CREATED:20260415T025054Z
LAST-MODIFIED:20260415T025223Z
UID:10004978-1794096000-1794182399@www.queensmarketplace.com
SUMMARY:Sunglass Hut - Customer Week
DESCRIPTION:Join Sunglass Hut at Queens’ Marketplace for Customer Week\, featuring exclusive savings and perks for Sun Club members! \nEnjoy 25% off select full-price styles and receive a FREE Care Kit with purchase. Not a member yet? Sign up in-store for free and unlock access to this special offer. \nDon’t miss this limited-time opportunity to refresh your look with the season’s must-have shades. \nOffers valid in-store only. Restrictions apply. See store for details.
URL:https://www.queensmarketplace.com/event/5154/2026-11-08/
ATTACH;FMTTYPE=image/jpeg:https://www.queensmarketplace.com/wp-content/uploads/Core-Digital.jpg
END:VEVENT
BEGIN:VEVENT
DTSTART;VALUE=DATE:20261109
DTEND;VALUE=DATE:20261110
DTSTAMP:20260420T105215
CREATED:20260415T025054Z
LAST-MODIFIED:20260415T025223Z
UID:10004979-1794182400-1794268799@www.queensmarketplace.com
SUMMARY:Sunglass Hut - Customer Week
DESCRIPTION:Join Sunglass Hut at Queens’ Marketplace for Customer Week\, featuring exclusive savings and perks for Sun Club members! \nEnjoy 25% off select full-price styles and receive a FREE Care Kit with purchase. Not a member yet? Sign up in-store for free and unlock access to this special offer. \nDon’t miss this limited-time opportunity to refresh your look with the season’s must-have shades. \nOffers valid in-store only. Restrictions apply. See store for details.
URL:https://www.queensmarketplace.com/event/5154/2026-11-09/
ATTACH;FMTTYPE=image/jpeg:https://www.queensmarketplace.com/wp-content/uploads/Core-Digital.jpg
END:VEVENT
BEGIN:VEVENT
DTSTART;TZID=Pacific/Honolulu:20261109T180000
DTEND;TZID=Pacific/Honolulu:20261109T190000
DTSTAMP:20260420T105215
CREATED:20251201T213340Z
LAST-MODIFIED:20251201T213340Z
UID:10003214-1794247200-1794250800@www.queensmarketplace.com
SUMMARY:Hula Show
DESCRIPTION:Enjoy a beautiful free performance at the Coronation Pavilion\, featuring both kahiko (traditional) and modern hula. Hula narrates Hawaii’s story through the graceful movements of skilled dancers. Experience this intricate ancient art of dance and chant up close and personal in a comfortable outdoor setting. \nMondays | 6 PM | Coronation Pavilion
URL:https://www.queensmarketplace.com/event/hula-show-2-2-2/2026-11-09/
ATTACH;FMTTYPE=image/jpeg:https://www.queensmarketplace.com/wp-content/uploads/SPStudio_0039.jpg
END:VEVENT
BEGIN:VEVENT
DTSTART;VALUE=DATE:20261110
DTEND;VALUE=DATE:20261111
DTSTAMP:20260420T105215
CREATED:20260415T025054Z
LAST-MODIFIED:20260415T025223Z
UID:10004980-1794268800-1794355199@www.queensmarketplace.com
SUMMARY:Sunglass Hut - Customer Week
DESCRIPTION:Join Sunglass Hut at Queens’ Marketplace for Customer Week\, featuring exclusive savings and perks for Sun Club members! \nEnjoy 25% off select full-price styles and receive a FREE Care Kit with purchase. Not a member yet? Sign up in-store for free and unlock access to this special offer. \nDon’t miss this limited-time opportunity to refresh your look with the season’s must-have shades. \nOffers valid in-store only. Restrictions apply. See store for details.
URL:https://www.queensmarketplace.com/event/5154/2026-11-10/
ATTACH;FMTTYPE=image/jpeg:https://www.queensmarketplace.com/wp-content/uploads/Core-Digital.jpg
END:VEVENT
BEGIN:VEVENT
DTSTART;VALUE=DATE:20261111
DTEND;VALUE=DATE:20261112
DTSTAMP:20260420T105215
CREATED:20260415T025054Z
LAST-MODIFIED:20260415T025223Z
UID:10004981-1794355200-1794441599@www.queensmarketplace.com
SUMMARY:Sunglass Hut - Customer Week
DESCRIPTION:Join Sunglass Hut at Queens’ Marketplace for Customer Week\, featuring exclusive savings and perks for Sun Club members! \nEnjoy 25% off select full-price styles and receive a FREE Care Kit with purchase. Not a member yet? Sign up in-store for free and unlock access to this special offer. \nDon’t miss this limited-time opportunity to refresh your look with the season’s must-have shades. \nOffers valid in-store only. Restrictions apply. See store for details.
URL:https://www.queensmarketplace.com/event/5154/2026-11-11/
ATTACH;FMTTYPE=image/jpeg:https://www.queensmarketplace.com/wp-content/uploads/Core-Digital.jpg
END:VEVENT
BEGIN:VEVENT
DTSTART;TZID=Pacific/Honolulu:20261111T180000
DTEND;TZID=Pacific/Honolulu:20261111T190000
DTSTAMP:20260420T105215
CREATED:20260120T220122Z
LAST-MODIFIED:20260120T220123Z
UID:10004757-1794420000-1794423600@www.queensmarketplace.com
SUMMARY:Ukulele Lesson
DESCRIPTION:Learn how to play the ukulele in this fun and engaging music experience. Classes are instructed by 3x Nā Hōkū Hanohano award winning artist\, Kris Fuchigami. Ukuleles and sheet music will be provided on a first come\, first serve basis to the first 9 persons\, or feel free to bring your own ukulele! \nWeekly | 6 PM | Coronation Pavilion
URL:https://www.queensmarketplace.com/event/ukulele-lessons-2-4/2026-11-11/
ATTACH;FMTTYPE=image/jpeg:https://www.queensmarketplace.com/wp-content/uploads/Ukulele.jpg
END:VEVENT
BEGIN:VEVENT
DTSTART;VALUE=DATE:20261112
DTEND;VALUE=DATE:20261113
DTSTAMP:20260420T105215
CREATED:20260415T025054Z
LAST-MODIFIED:20260415T025223Z
UID:10004982-1794441600-1794527999@www.queensmarketplace.com
SUMMARY:Sunglass Hut - Customer Week
DESCRIPTION:Join Sunglass Hut at Queens’ Marketplace for Customer Week\, featuring exclusive savings and perks for Sun Club members! \nEnjoy 25% off select full-price styles and receive a FREE Care Kit with purchase. Not a member yet? Sign up in-store for free and unlock access to this special offer. \nDon’t miss this limited-time opportunity to refresh your look with the season’s must-have shades. \nOffers valid in-store only. Restrictions apply. See store for details.
URL:https://www.queensmarketplace.com/event/5154/2026-11-12/
ATTACH;FMTTYPE=image/jpeg:https://www.queensmarketplace.com/wp-content/uploads/Core-Digital.jpg
END:VEVENT
BEGIN:VEVENT
DTSTART;VALUE=DATE:20261113
DTEND;VALUE=DATE:20261114
DTSTAMP:20260420T105215
CREATED:20260415T025054Z
LAST-MODIFIED:20260415T025223Z
UID:10004983-1794528000-1794614399@www.queensmarketplace.com
SUMMARY:Sunglass Hut - Customer Week
DESCRIPTION:Join Sunglass Hut at Queens’ Marketplace for Customer Week\, featuring exclusive savings and perks for Sun Club members! \nEnjoy 25% off select full-price styles and receive a FREE Care Kit with purchase. Not a member yet? Sign up in-store for free and unlock access to this special offer. \nDon’t miss this limited-time opportunity to refresh your look with the season’s must-have shades. \nOffers valid in-store only. Restrictions apply. See store for details.
URL:https://www.queensmarketplace.com/event/5154/2026-11-13/
ATTACH;FMTTYPE=image/jpeg:https://www.queensmarketplace.com/wp-content/uploads/Core-Digital.jpg
END:VEVENT
BEGIN:VEVENT
DTSTART;VALUE=DATE:20261114
DTEND;VALUE=DATE:20261115
DTSTAMP:20260420T105215
CREATED:20260415T025054Z
LAST-MODIFIED:20260415T025223Z
UID:10004984-1794614400-1794700799@www.queensmarketplace.com
SUMMARY:Sunglass Hut - Customer Week
DESCRIPTION:Join Sunglass Hut at Queens’ Marketplace for Customer Week\, featuring exclusive savings and perks for Sun Club members! \nEnjoy 25% off select full-price styles and receive a FREE Care Kit with purchase. Not a member yet? Sign up in-store for free and unlock access to this special offer. \nDon’t miss this limited-time opportunity to refresh your look with the season’s must-have shades. \nOffers valid in-store only. Restrictions apply. See store for details.
URL:https://www.queensmarketplace.com/event/5154/2026-11-14/
ATTACH;FMTTYPE=image/jpeg:https://www.queensmarketplace.com/wp-content/uploads/Core-Digital.jpg
END:VEVENT
BEGIN:VEVENT
DTSTART;VALUE=DATE:20261115
DTEND;VALUE=DATE:20261116
DTSTAMP:20260420T105215
CREATED:20260415T025054Z
LAST-MODIFIED:20260415T025223Z
UID:10004985-1794700800-1794787199@www.queensmarketplace.com
SUMMARY:Sunglass Hut - Customer Week
DESCRIPTION:Join Sunglass Hut at Queens’ Marketplace for Customer Week\, featuring exclusive savings and perks for Sun Club members! \nEnjoy 25% off select full-price styles and receive a FREE Care Kit with purchase. Not a member yet? Sign up in-store for free and unlock access to this special offer. \nDon’t miss this limited-time opportunity to refresh your look with the season’s must-have shades. \nOffers valid in-store only. Restrictions apply. See store for details.
URL:https://www.queensmarketplace.com/event/5154/2026-11-15/
ATTACH;FMTTYPE=image/jpeg:https://www.queensmarketplace.com/wp-content/uploads/Core-Digital.jpg
END:VEVENT
BEGIN:VEVENT
DTSTART;VALUE=DATE:20261116
DTEND;VALUE=DATE:20261117
DTSTAMP:20260420T105216
CREATED:20260415T025054Z
LAST-MODIFIED:20260415T025223Z
UID:10004986-1794787200-1794873599@www.queensmarketplace.com
SUMMARY:Sunglass Hut - Customer Week
DESCRIPTION:Join Sunglass Hut at Queens’ Marketplace for Customer Week\, featuring exclusive savings and perks for Sun Club members! \nEnjoy 25% off select full-price styles and receive a FREE Care Kit with purchase. Not a member yet? Sign up in-store for free and unlock access to this special offer. \nDon’t miss this limited-time opportunity to refresh your look with the season’s must-have shades. \nOffers valid in-store only. Restrictions apply. See store for details.
URL:https://www.queensmarketplace.com/event/5154/2026-11-16/
ATTACH;FMTTYPE=image/jpeg:https://www.queensmarketplace.com/wp-content/uploads/Core-Digital.jpg
END:VEVENT
BEGIN:VEVENT
DTSTART;TZID=Pacific/Honolulu:20261116T180000
DTEND;TZID=Pacific/Honolulu:20261116T190000
DTSTAMP:20260420T105216
CREATED:20251201T213340Z
LAST-MODIFIED:20251201T213340Z
UID:10003215-1794852000-1794855600@www.queensmarketplace.com
SUMMARY:Hula Show
DESCRIPTION:Enjoy a beautiful free performance at the Coronation Pavilion\, featuring both kahiko (traditional) and modern hula. Hula narrates Hawaii’s story through the graceful movements of skilled dancers. Experience this intricate ancient art of dance and chant up close and personal in a comfortable outdoor setting. \nMondays | 6 PM | Coronation Pavilion
URL:https://www.queensmarketplace.com/event/hula-show-2-2-2/2026-11-16/
ATTACH;FMTTYPE=image/jpeg:https://www.queensmarketplace.com/wp-content/uploads/SPStudio_0039.jpg
END:VEVENT
BEGIN:VEVENT
DTSTART;VALUE=DATE:20261117
DTEND;VALUE=DATE:20261118
DTSTAMP:20260420T105216
CREATED:20260415T025054Z
LAST-MODIFIED:20260415T025223Z
UID:10004987-1794873600-1794959999@www.queensmarketplace.com
SUMMARY:Sunglass Hut - Customer Week
DESCRIPTION:Join Sunglass Hut at Queens’ Marketplace for Customer Week\, featuring exclusive savings and perks for Sun Club members! \nEnjoy 25% off select full-price styles and receive a FREE Care Kit with purchase. Not a member yet? Sign up in-store for free and unlock access to this special offer. \nDon’t miss this limited-time opportunity to refresh your look with the season’s must-have shades. \nOffers valid in-store only. Restrictions apply. See store for details.
URL:https://www.queensmarketplace.com/event/5154/2026-11-17/
ATTACH;FMTTYPE=image/jpeg:https://www.queensmarketplace.com/wp-content/uploads/Core-Digital.jpg
END:VEVENT
BEGIN:VEVENT
DTSTART;VALUE=DATE:20261118
DTEND;VALUE=DATE:20261119
DTSTAMP:20260420T105216
CREATED:20260415T025054Z
LAST-MODIFIED:20260415T025223Z
UID:10004988-1794960000-1795046399@www.queensmarketplace.com
SUMMARY:Sunglass Hut - Customer Week
DESCRIPTION:Join Sunglass Hut at Queens’ Marketplace for Customer Week\, featuring exclusive savings and perks for Sun Club members! \nEnjoy 25% off select full-price styles and receive a FREE Care Kit with purchase. Not a member yet? Sign up in-store for free and unlock access to this special offer. \nDon’t miss this limited-time opportunity to refresh your look with the season’s must-have shades. \nOffers valid in-store only. Restrictions apply. See store for details.
URL:https://www.queensmarketplace.com/event/5154/2026-11-18/
ATTACH;FMTTYPE=image/jpeg:https://www.queensmarketplace.com/wp-content/uploads/Core-Digital.jpg
END:VEVENT
BEGIN:VEVENT
DTSTART;TZID=Pacific/Honolulu:20261118T180000
DTEND;TZID=Pacific/Honolulu:20261118T190000
DTSTAMP:20260420T105216
CREATED:20260120T220122Z
LAST-MODIFIED:20260120T220123Z
UID:10004758-1795024800-1795028400@www.queensmarketplace.com
SUMMARY:Ukulele Lesson
DESCRIPTION:Learn how to play the ukulele in this fun and engaging music experience. Classes are instructed by 3x Nā Hōkū Hanohano award winning artist\, Kris Fuchigami. Ukuleles and sheet music will be provided on a first come\, first serve basis to the first 9 persons\, or feel free to bring your own ukulele! \nWeekly | 6 PM | Coronation Pavilion
URL:https://www.queensmarketplace.com/event/ukulele-lessons-2-4/2026-11-18/
ATTACH;FMTTYPE=image/jpeg:https://www.queensmarketplace.com/wp-content/uploads/Ukulele.jpg
END:VEVENT
BEGIN:VEVENT
DTSTART;VALUE=DATE:20261119
DTEND;VALUE=DATE:20261120
DTSTAMP:20260420T105216
CREATED:20260415T025054Z
LAST-MODIFIED:20260415T025223Z
UID:10004989-1795046400-1795132799@www.queensmarketplace.com
SUMMARY:Sunglass Hut - Customer Week
DESCRIPTION:Join Sunglass Hut at Queens’ Marketplace for Customer Week\, featuring exclusive savings and perks for Sun Club members! \nEnjoy 25% off select full-price styles and receive a FREE Care Kit with purchase. Not a member yet? Sign up in-store for free and unlock access to this special offer. \nDon’t miss this limited-time opportunity to refresh your look with the season’s must-have shades. \nOffers valid in-store only. Restrictions apply. See store for details.
URL:https://www.queensmarketplace.com/event/5154/2026-11-19/
ATTACH;FMTTYPE=image/jpeg:https://www.queensmarketplace.com/wp-content/uploads/Core-Digital.jpg
END:VEVENT
BEGIN:VEVENT
DTSTART;VALUE=DATE:20261120
DTEND;VALUE=DATE:20261121
DTSTAMP:20260420T105216
CREATED:20260415T025054Z
LAST-MODIFIED:20260415T025223Z
UID:10004990-1795132800-1795219199@www.queensmarketplace.com
SUMMARY:Sunglass Hut - Customer Week
DESCRIPTION:Join Sunglass Hut at Queens’ Marketplace for Customer Week\, featuring exclusive savings and perks for Sun Club members! \nEnjoy 25% off select full-price styles and receive a FREE Care Kit with purchase. Not a member yet? Sign up in-store for free and unlock access to this special offer. \nDon’t miss this limited-time opportunity to refresh your look with the season’s must-have shades. \nOffers valid in-store only. Restrictions apply. See store for details.
URL:https://www.queensmarketplace.com/event/5154/2026-11-20/
ATTACH;FMTTYPE=image/jpeg:https://www.queensmarketplace.com/wp-content/uploads/Core-Digital.jpg
END:VEVENT
BEGIN:VEVENT
DTSTART;VALUE=DATE:20261121
DTEND;VALUE=DATE:20261122
DTSTAMP:20260420T105216
CREATED:20260415T025054Z
LAST-MODIFIED:20260415T025223Z
UID:10004991-1795219200-1795305599@www.queensmarketplace.com
SUMMARY:Sunglass Hut - Customer Week
DESCRIPTION:Join Sunglass Hut at Queens’ Marketplace for Customer Week\, featuring exclusive savings and perks for Sun Club members! \nEnjoy 25% off select full-price styles and receive a FREE Care Kit with purchase. Not a member yet? Sign up in-store for free and unlock access to this special offer. \nDon’t miss this limited-time opportunity to refresh your look with the season’s must-have shades. \nOffers valid in-store only. Restrictions apply. See store for details.
URL:https://www.queensmarketplace.com/event/5154/2026-11-21/
ATTACH;FMTTYPE=image/jpeg:https://www.queensmarketplace.com/wp-content/uploads/Core-Digital.jpg
END:VEVENT
BEGIN:VEVENT
DTSTART;TZID=Pacific/Honolulu:20261121T180000
DTEND;TZID=Pacific/Honolulu:20261121T200000
DTSTAMP:20260420T105216
CREATED:20260409T023416Z
LAST-MODIFIED:20260409T023417Z
UID:10000563-1795284000-1795291200@www.queensmarketplace.com
SUMMARY:Kanikapila Monthly Concert Series
DESCRIPTION:Discover Hawai‘i Island’s best musical talents at Queens’ Marketplace’s Kanikapila Monthly Concert Series sponsored by KWXX\, every third Saturday of the month. This month features Keoni Thompson. \nKeoni Thompson is a musician from Kona on Hawai’i Island\, where he was raised surrounded by the sounds of Hawaiian music\, country storytelling\, and the rhythms of the ocean. Growing up in a place where slack key guitar\, island reggae\, and paniolo country traditions all live side by side\, Keoni developed a style that blends Hawaiian contemporary music with country-inspired songwriting. His music reflects the landscapes\, culture\, and everyday life of Hawai’i-often drawing inspiration from the ocean\, the land\, and the spirit of aloha. \nEvery Third Saturday of the Month | 6 PM | Coronation Pavilion
URL:https://www.queensmarketplace.com/event/kanikapila-monthly-concert-series-29/
ATTACH;FMTTYPE=image/jpeg:https://www.queensmarketplace.com/wp-content/uploads/Keoni.jpg
END:VEVENT
BEGIN:VEVENT
DTSTART;VALUE=DATE:20261122
DTEND;VALUE=DATE:20261123
DTSTAMP:20260420T105216
CREATED:20260415T025054Z
LAST-MODIFIED:20260415T025223Z
UID:10004992-1795305600-1795391999@www.queensmarketplace.com
SUMMARY:Sunglass Hut - Customer Week
DESCRIPTION:Join Sunglass Hut at Queens’ Marketplace for Customer Week\, featuring exclusive savings and perks for Sun Club members! \nEnjoy 25% off select full-price styles and receive a FREE Care Kit with purchase. Not a member yet? Sign up in-store for free and unlock access to this special offer. \nDon’t miss this limited-time opportunity to refresh your look with the season’s must-have shades. \nOffers valid in-store only. Restrictions apply. See store for details.
URL:https://www.queensmarketplace.com/event/5154/2026-11-22/
ATTACH;FMTTYPE=image/jpeg:https://www.queensmarketplace.com/wp-content/uploads/Core-Digital.jpg
END:VEVENT
BEGIN:VEVENT
DTSTART;VALUE=DATE:20261123
DTEND;VALUE=DATE:20261124
DTSTAMP:20260420T105216
CREATED:20260415T025054Z
LAST-MODIFIED:20260415T025223Z
UID:10004993-1795392000-1795478399@www.queensmarketplace.com
SUMMARY:Sunglass Hut - Customer Week
DESCRIPTION:Join Sunglass Hut at Queens’ Marketplace for Customer Week\, featuring exclusive savings and perks for Sun Club members! \nEnjoy 25% off select full-price styles and receive a FREE Care Kit with purchase. Not a member yet? Sign up in-store for free and unlock access to this special offer. \nDon’t miss this limited-time opportunity to refresh your look with the season’s must-have shades. \nOffers valid in-store only. Restrictions apply. See store for details.
URL:https://www.queensmarketplace.com/event/5154/2026-11-23/
ATTACH;FMTTYPE=image/jpeg:https://www.queensmarketplace.com/wp-content/uploads/Core-Digital.jpg
END:VEVENT
END:VCALENDAR