BEGIN:VCALENDAR
VERSION:2.0
PRODID:-//Queens&#039; Marketplace - ECPv6.15.15//NONSGML v1.0//EN
CALSCALE:GREGORIAN
METHOD:PUBLISH
X-ORIGINAL-URL:https://www.queensmarketplace.com
X-WR-CALDESC:Events for Queens&#039; Marketplace
REFRESH-INTERVAL;VALUE=DURATION:PT1H
X-Robots-Tag:noindex
X-PUBLISHED-TTL:PT1H
BEGIN:VTIMEZONE
TZID:Pacific/Honolulu
BEGIN:STANDARD
TZOFFSETFROM:-1000
TZOFFSETTO:-1000
TZNAME:HST
DTSTART:20250101T000000
END:STANDARD
END:VTIMEZONE
BEGIN:VEVENT
DTSTART;VALUE=DATE:20261210
DTEND;VALUE=DATE:20261211
DTSTAMP:20260420T161628
CREATED:20260415T025054Z
LAST-MODIFIED:20260415T025223Z
UID:10005010-1796860800-1796947199@www.queensmarketplace.com
SUMMARY:Sunglass Hut - Customer Week
DESCRIPTION:Join Sunglass Hut at Queens’ Marketplace for Customer Week\, featuring exclusive savings and perks for Sun Club members! \nEnjoy 25% off select full-price styles and receive a FREE Care Kit with purchase. Not a member yet? Sign up in-store for free and unlock access to this special offer. \nDon’t miss this limited-time opportunity to refresh your look with the season’s must-have shades. \nOffers valid in-store only. Restrictions apply. See store for details.
URL:https://www.queensmarketplace.com/event/5154/2026-12-10/
ATTACH;FMTTYPE=image/jpeg:https://www.queensmarketplace.com/wp-content/uploads/Core-Digital.jpg
END:VEVENT
BEGIN:VEVENT
DTSTART;VALUE=DATE:20261211
DTEND;VALUE=DATE:20261212
DTSTAMP:20260420T161628
CREATED:20260415T025054Z
LAST-MODIFIED:20260415T025223Z
UID:10005011-1796947200-1797033599@www.queensmarketplace.com
SUMMARY:Sunglass Hut - Customer Week
DESCRIPTION:Join Sunglass Hut at Queens’ Marketplace for Customer Week\, featuring exclusive savings and perks for Sun Club members! \nEnjoy 25% off select full-price styles and receive a FREE Care Kit with purchase. Not a member yet? Sign up in-store for free and unlock access to this special offer. \nDon’t miss this limited-time opportunity to refresh your look with the season’s must-have shades. \nOffers valid in-store only. Restrictions apply. See store for details.
URL:https://www.queensmarketplace.com/event/5154/2026-12-11/
ATTACH;FMTTYPE=image/jpeg:https://www.queensmarketplace.com/wp-content/uploads/Core-Digital.jpg
END:VEVENT
BEGIN:VEVENT
DTSTART;VALUE=DATE:20261212
DTEND;VALUE=DATE:20261213
DTSTAMP:20260420T161628
CREATED:20260415T025054Z
LAST-MODIFIED:20260415T025223Z
UID:10005012-1797033600-1797119999@www.queensmarketplace.com
SUMMARY:Sunglass Hut - Customer Week
DESCRIPTION:Join Sunglass Hut at Queens’ Marketplace for Customer Week\, featuring exclusive savings and perks for Sun Club members! \nEnjoy 25% off select full-price styles and receive a FREE Care Kit with purchase. Not a member yet? Sign up in-store for free and unlock access to this special offer. \nDon’t miss this limited-time opportunity to refresh your look with the season’s must-have shades. \nOffers valid in-store only. Restrictions apply. See store for details.
URL:https://www.queensmarketplace.com/event/5154/2026-12-12/
ATTACH;FMTTYPE=image/jpeg:https://www.queensmarketplace.com/wp-content/uploads/Core-Digital.jpg
END:VEVENT
BEGIN:VEVENT
DTSTART;VALUE=DATE:20261213
DTEND;VALUE=DATE:20261214
DTSTAMP:20260420T161628
CREATED:20260415T025054Z
LAST-MODIFIED:20260415T025223Z
UID:10005013-1797120000-1797206399@www.queensmarketplace.com
SUMMARY:Sunglass Hut - Customer Week
DESCRIPTION:Join Sunglass Hut at Queens’ Marketplace for Customer Week\, featuring exclusive savings and perks for Sun Club members! \nEnjoy 25% off select full-price styles and receive a FREE Care Kit with purchase. Not a member yet? Sign up in-store for free and unlock access to this special offer. \nDon’t miss this limited-time opportunity to refresh your look with the season’s must-have shades. \nOffers valid in-store only. Restrictions apply. See store for details.
URL:https://www.queensmarketplace.com/event/5154/2026-12-13/
ATTACH;FMTTYPE=image/jpeg:https://www.queensmarketplace.com/wp-content/uploads/Core-Digital.jpg
END:VEVENT
BEGIN:VEVENT
DTSTART;VALUE=DATE:20261214
DTEND;VALUE=DATE:20261215
DTSTAMP:20260420T161628
CREATED:20260415T025054Z
LAST-MODIFIED:20260415T025223Z
UID:10005014-1797206400-1797292799@www.queensmarketplace.com
SUMMARY:Sunglass Hut - Customer Week
DESCRIPTION:Join Sunglass Hut at Queens’ Marketplace for Customer Week\, featuring exclusive savings and perks for Sun Club members! \nEnjoy 25% off select full-price styles and receive a FREE Care Kit with purchase. Not a member yet? Sign up in-store for free and unlock access to this special offer. \nDon’t miss this limited-time opportunity to refresh your look with the season’s must-have shades. \nOffers valid in-store only. Restrictions apply. See store for details.
URL:https://www.queensmarketplace.com/event/5154/2026-12-14/
ATTACH;FMTTYPE=image/jpeg:https://www.queensmarketplace.com/wp-content/uploads/Core-Digital.jpg
END:VEVENT
BEGIN:VEVENT
DTSTART;TZID=Pacific/Honolulu:20261214T180000
DTEND;TZID=Pacific/Honolulu:20261214T190000
DTSTAMP:20260420T161628
CREATED:20251201T213340Z
LAST-MODIFIED:20251201T213340Z
UID:10003219-1797271200-1797274800@www.queensmarketplace.com
SUMMARY:Hula Show
DESCRIPTION:Enjoy a beautiful free performance at the Coronation Pavilion\, featuring both kahiko (traditional) and modern hula. Hula narrates Hawaii’s story through the graceful movements of skilled dancers. Experience this intricate ancient art of dance and chant up close and personal in a comfortable outdoor setting. \nMondays | 6 PM | Coronation Pavilion
URL:https://www.queensmarketplace.com/event/hula-show-2-2-2/2026-12-14/
ATTACH;FMTTYPE=image/jpeg:https://www.queensmarketplace.com/wp-content/uploads/SPStudio_0039.jpg
END:VEVENT
BEGIN:VEVENT
DTSTART;VALUE=DATE:20261215
DTEND;VALUE=DATE:20261216
DTSTAMP:20260420T161628
CREATED:20260415T025054Z
LAST-MODIFIED:20260415T025223Z
UID:10005015-1797292800-1797379199@www.queensmarketplace.com
SUMMARY:Sunglass Hut - Customer Week
DESCRIPTION:Join Sunglass Hut at Queens’ Marketplace for Customer Week\, featuring exclusive savings and perks for Sun Club members! \nEnjoy 25% off select full-price styles and receive a FREE Care Kit with purchase. Not a member yet? Sign up in-store for free and unlock access to this special offer. \nDon’t miss this limited-time opportunity to refresh your look with the season’s must-have shades. \nOffers valid in-store only. Restrictions apply. See store for details.
URL:https://www.queensmarketplace.com/event/5154/2026-12-15/
ATTACH;FMTTYPE=image/jpeg:https://www.queensmarketplace.com/wp-content/uploads/Core-Digital.jpg
END:VEVENT
BEGIN:VEVENT
DTSTART;VALUE=DATE:20261216
DTEND;VALUE=DATE:20261217
DTSTAMP:20260420T161628
CREATED:20260415T025054Z
LAST-MODIFIED:20260415T025223Z
UID:10005016-1797379200-1797465599@www.queensmarketplace.com
SUMMARY:Sunglass Hut - Customer Week
DESCRIPTION:Join Sunglass Hut at Queens’ Marketplace for Customer Week\, featuring exclusive savings and perks for Sun Club members! \nEnjoy 25% off select full-price styles and receive a FREE Care Kit with purchase. Not a member yet? Sign up in-store for free and unlock access to this special offer. \nDon’t miss this limited-time opportunity to refresh your look with the season’s must-have shades. \nOffers valid in-store only. Restrictions apply. See store for details.
URL:https://www.queensmarketplace.com/event/5154/2026-12-16/
ATTACH;FMTTYPE=image/jpeg:https://www.queensmarketplace.com/wp-content/uploads/Core-Digital.jpg
END:VEVENT
BEGIN:VEVENT
DTSTART;TZID=Pacific/Honolulu:20261216T180000
DTEND;TZID=Pacific/Honolulu:20261216T190000
DTSTAMP:20260420T161628
CREATED:20260120T220122Z
LAST-MODIFIED:20260120T220123Z
UID:10004762-1797444000-1797447600@www.queensmarketplace.com
SUMMARY:Ukulele Lesson
DESCRIPTION:Learn how to play the ukulele in this fun and engaging music experience. Classes are instructed by 3x Nā Hōkū Hanohano award winning artist\, Kris Fuchigami. Ukuleles and sheet music will be provided on a first come\, first serve basis to the first 9 persons\, or feel free to bring your own ukulele! \nWeekly | 6 PM | Coronation Pavilion
URL:https://www.queensmarketplace.com/event/ukulele-lessons-2-4/2026-12-16/
ATTACH;FMTTYPE=image/jpeg:https://www.queensmarketplace.com/wp-content/uploads/Ukulele.jpg
END:VEVENT
BEGIN:VEVENT
DTSTART;VALUE=DATE:20261217
DTEND;VALUE=DATE:20261218
DTSTAMP:20260420T161628
CREATED:20260415T025054Z
LAST-MODIFIED:20260415T025223Z
UID:10005017-1797465600-1797551999@www.queensmarketplace.com
SUMMARY:Sunglass Hut - Customer Week
DESCRIPTION:Join Sunglass Hut at Queens’ Marketplace for Customer Week\, featuring exclusive savings and perks for Sun Club members! \nEnjoy 25% off select full-price styles and receive a FREE Care Kit with purchase. Not a member yet? Sign up in-store for free and unlock access to this special offer. \nDon’t miss this limited-time opportunity to refresh your look with the season’s must-have shades. \nOffers valid in-store only. Restrictions apply. See store for details.
URL:https://www.queensmarketplace.com/event/5154/2026-12-17/
ATTACH;FMTTYPE=image/jpeg:https://www.queensmarketplace.com/wp-content/uploads/Core-Digital.jpg
END:VEVENT
BEGIN:VEVENT
DTSTART;VALUE=DATE:20261218
DTEND;VALUE=DATE:20261219
DTSTAMP:20260420T161628
CREATED:20260415T025054Z
LAST-MODIFIED:20260415T025223Z
UID:10005018-1797552000-1797638399@www.queensmarketplace.com
SUMMARY:Sunglass Hut - Customer Week
DESCRIPTION:Join Sunglass Hut at Queens’ Marketplace for Customer Week\, featuring exclusive savings and perks for Sun Club members! \nEnjoy 25% off select full-price styles and receive a FREE Care Kit with purchase. Not a member yet? Sign up in-store for free and unlock access to this special offer. \nDon’t miss this limited-time opportunity to refresh your look with the season’s must-have shades. \nOffers valid in-store only. Restrictions apply. See store for details.
URL:https://www.queensmarketplace.com/event/5154/2026-12-18/
ATTACH;FMTTYPE=image/jpeg:https://www.queensmarketplace.com/wp-content/uploads/Core-Digital.jpg
END:VEVENT
BEGIN:VEVENT
DTSTART;VALUE=DATE:20261219
DTEND;VALUE=DATE:20261220
DTSTAMP:20260420T161628
CREATED:20260415T025054Z
LAST-MODIFIED:20260415T025223Z
UID:10005019-1797638400-1797724799@www.queensmarketplace.com
SUMMARY:Sunglass Hut - Customer Week
DESCRIPTION:Join Sunglass Hut at Queens’ Marketplace for Customer Week\, featuring exclusive savings and perks for Sun Club members! \nEnjoy 25% off select full-price styles and receive a FREE Care Kit with purchase. Not a member yet? Sign up in-store for free and unlock access to this special offer. \nDon’t miss this limited-time opportunity to refresh your look with the season’s must-have shades. \nOffers valid in-store only. Restrictions apply. See store for details.
URL:https://www.queensmarketplace.com/event/5154/2026-12-19/
ATTACH;FMTTYPE=image/jpeg:https://www.queensmarketplace.com/wp-content/uploads/Core-Digital.jpg
END:VEVENT
BEGIN:VEVENT
DTSTART;TZID=Pacific/Honolulu:20261219T180000
DTEND;TZID=Pacific/Honolulu:20261219T200000
DTSTAMP:20260420T161628
CREATED:20231023T203402Z
LAST-MODIFIED:20240129T170756Z
UID:10000564-1797703200-1797710400@www.queensmarketplace.com
SUMMARY:Kanikapila Monthly Concert Series
DESCRIPTION:Discover Hawai‘i Island’s best musical talents at Queens’ Marketplace’s Kanikapila Monthly Concert Series sponsored by KWXX\, every third Saturday of the month. \nEvery Third Saturday of the Month | 6 PM | Coronation Pavilion
URL:https://www.queensmarketplace.com/event/kanikapila-monthly-concert-series/2026-12-19/
ATTACH;FMTTYPE=image/jpeg:https://www.queensmarketplace.com/wp-content/uploads/QMP-Monthly-Concert-Series-generic.jpg
END:VEVENT
BEGIN:VEVENT
DTSTART;VALUE=DATE:20261220
DTEND;VALUE=DATE:20261221
DTSTAMP:20260420T161628
CREATED:20260415T025054Z
LAST-MODIFIED:20260415T025223Z
UID:10005020-1797724800-1797811199@www.queensmarketplace.com
SUMMARY:Sunglass Hut - Customer Week
DESCRIPTION:Join Sunglass Hut at Queens’ Marketplace for Customer Week\, featuring exclusive savings and perks for Sun Club members! \nEnjoy 25% off select full-price styles and receive a FREE Care Kit with purchase. Not a member yet? Sign up in-store for free and unlock access to this special offer. \nDon’t miss this limited-time opportunity to refresh your look with the season’s must-have shades. \nOffers valid in-store only. Restrictions apply. See store for details.
URL:https://www.queensmarketplace.com/event/5154/2026-12-20/
ATTACH;FMTTYPE=image/jpeg:https://www.queensmarketplace.com/wp-content/uploads/Core-Digital.jpg
END:VEVENT
BEGIN:VEVENT
DTSTART;VALUE=DATE:20261221
DTEND;VALUE=DATE:20261222
DTSTAMP:20260420T161628
CREATED:20260415T025054Z
LAST-MODIFIED:20260415T025223Z
UID:10005021-1797811200-1797897599@www.queensmarketplace.com
SUMMARY:Sunglass Hut - Customer Week
DESCRIPTION:Join Sunglass Hut at Queens’ Marketplace for Customer Week\, featuring exclusive savings and perks for Sun Club members! \nEnjoy 25% off select full-price styles and receive a FREE Care Kit with purchase. Not a member yet? Sign up in-store for free and unlock access to this special offer. \nDon’t miss this limited-time opportunity to refresh your look with the season’s must-have shades. \nOffers valid in-store only. Restrictions apply. See store for details.
URL:https://www.queensmarketplace.com/event/5154/2026-12-21/
ATTACH;FMTTYPE=image/jpeg:https://www.queensmarketplace.com/wp-content/uploads/Core-Digital.jpg
END:VEVENT
BEGIN:VEVENT
DTSTART;TZID=Pacific/Honolulu:20261221T180000
DTEND;TZID=Pacific/Honolulu:20261221T190000
DTSTAMP:20260420T161628
CREATED:20251201T213340Z
LAST-MODIFIED:20251201T213340Z
UID:10003220-1797876000-1797879600@www.queensmarketplace.com
SUMMARY:Hula Show
DESCRIPTION:Enjoy a beautiful free performance at the Coronation Pavilion\, featuring both kahiko (traditional) and modern hula. Hula narrates Hawaii’s story through the graceful movements of skilled dancers. Experience this intricate ancient art of dance and chant up close and personal in a comfortable outdoor setting. \nMondays | 6 PM | Coronation Pavilion
URL:https://www.queensmarketplace.com/event/hula-show-2-2-2/2026-12-21/
ATTACH;FMTTYPE=image/jpeg:https://www.queensmarketplace.com/wp-content/uploads/SPStudio_0039.jpg
END:VEVENT
BEGIN:VEVENT
DTSTART;VALUE=DATE:20261222
DTEND;VALUE=DATE:20261223
DTSTAMP:20260420T161628
CREATED:20260415T025054Z
LAST-MODIFIED:20260415T025223Z
UID:10005022-1797897600-1797983999@www.queensmarketplace.com
SUMMARY:Sunglass Hut - Customer Week
DESCRIPTION:Join Sunglass Hut at Queens’ Marketplace for Customer Week\, featuring exclusive savings and perks for Sun Club members! \nEnjoy 25% off select full-price styles and receive a FREE Care Kit with purchase. Not a member yet? Sign up in-store for free and unlock access to this special offer. \nDon’t miss this limited-time opportunity to refresh your look with the season’s must-have shades. \nOffers valid in-store only. Restrictions apply. See store for details.
URL:https://www.queensmarketplace.com/event/5154/2026-12-22/
ATTACH;FMTTYPE=image/jpeg:https://www.queensmarketplace.com/wp-content/uploads/Core-Digital.jpg
END:VEVENT
BEGIN:VEVENT
DTSTART;VALUE=DATE:20261223
DTEND;VALUE=DATE:20261224
DTSTAMP:20260420T161629
CREATED:20260415T025054Z
LAST-MODIFIED:20260415T025223Z
UID:10005023-1797984000-1798070399@www.queensmarketplace.com
SUMMARY:Sunglass Hut - Customer Week
DESCRIPTION:Join Sunglass Hut at Queens’ Marketplace for Customer Week\, featuring exclusive savings and perks for Sun Club members! \nEnjoy 25% off select full-price styles and receive a FREE Care Kit with purchase. Not a member yet? Sign up in-store for free and unlock access to this special offer. \nDon’t miss this limited-time opportunity to refresh your look with the season’s must-have shades. \nOffers valid in-store only. Restrictions apply. See store for details.
URL:https://www.queensmarketplace.com/event/5154/2026-12-23/
ATTACH;FMTTYPE=image/jpeg:https://www.queensmarketplace.com/wp-content/uploads/Core-Digital.jpg
END:VEVENT
BEGIN:VEVENT
DTSTART;TZID=Pacific/Honolulu:20261223T180000
DTEND;TZID=Pacific/Honolulu:20261223T190000
DTSTAMP:20260420T161629
CREATED:20260120T220122Z
LAST-MODIFIED:20260120T220123Z
UID:10004763-1798048800-1798052400@www.queensmarketplace.com
SUMMARY:Ukulele Lesson
DESCRIPTION:Learn how to play the ukulele in this fun and engaging music experience. Classes are instructed by 3x Nā Hōkū Hanohano award winning artist\, Kris Fuchigami. Ukuleles and sheet music will be provided on a first come\, first serve basis to the first 9 persons\, or feel free to bring your own ukulele! \nWeekly | 6 PM | Coronation Pavilion
URL:https://www.queensmarketplace.com/event/ukulele-lessons-2-4/2026-12-23/
ATTACH;FMTTYPE=image/jpeg:https://www.queensmarketplace.com/wp-content/uploads/Ukulele.jpg
END:VEVENT
BEGIN:VEVENT
DTSTART;VALUE=DATE:20261224
DTEND;VALUE=DATE:20261225
DTSTAMP:20260420T161629
CREATED:20260415T025054Z
LAST-MODIFIED:20260415T025223Z
UID:10005024-1798070400-1798156799@www.queensmarketplace.com
SUMMARY:Sunglass Hut - Customer Week
DESCRIPTION:Join Sunglass Hut at Queens’ Marketplace for Customer Week\, featuring exclusive savings and perks for Sun Club members! \nEnjoy 25% off select full-price styles and receive a FREE Care Kit with purchase. Not a member yet? Sign up in-store for free and unlock access to this special offer. \nDon’t miss this limited-time opportunity to refresh your look with the season’s must-have shades. \nOffers valid in-store only. Restrictions apply. See store for details.
URL:https://www.queensmarketplace.com/event/5154/2026-12-24/
ATTACH;FMTTYPE=image/jpeg:https://www.queensmarketplace.com/wp-content/uploads/Core-Digital.jpg
END:VEVENT
BEGIN:VEVENT
DTSTART;VALUE=DATE:20261225
DTEND;VALUE=DATE:20261226
DTSTAMP:20260420T161629
CREATED:20260415T025054Z
LAST-MODIFIED:20260415T025223Z
UID:10005025-1798156800-1798243199@www.queensmarketplace.com
SUMMARY:Sunglass Hut - Customer Week
DESCRIPTION:Join Sunglass Hut at Queens’ Marketplace for Customer Week\, featuring exclusive savings and perks for Sun Club members! \nEnjoy 25% off select full-price styles and receive a FREE Care Kit with purchase. Not a member yet? Sign up in-store for free and unlock access to this special offer. \nDon’t miss this limited-time opportunity to refresh your look with the season’s must-have shades. \nOffers valid in-store only. Restrictions apply. See store for details.
URL:https://www.queensmarketplace.com/event/5154/2026-12-25/
ATTACH;FMTTYPE=image/jpeg:https://www.queensmarketplace.com/wp-content/uploads/Core-Digital.jpg
END:VEVENT
BEGIN:VEVENT
DTSTART;VALUE=DATE:20261226
DTEND;VALUE=DATE:20261227
DTSTAMP:20260420T161629
CREATED:20260415T025054Z
LAST-MODIFIED:20260415T025223Z
UID:10005026-1798243200-1798329599@www.queensmarketplace.com
SUMMARY:Sunglass Hut - Customer Week
DESCRIPTION:Join Sunglass Hut at Queens’ Marketplace for Customer Week\, featuring exclusive savings and perks for Sun Club members! \nEnjoy 25% off select full-price styles and receive a FREE Care Kit with purchase. Not a member yet? Sign up in-store for free and unlock access to this special offer. \nDon’t miss this limited-time opportunity to refresh your look with the season’s must-have shades. \nOffers valid in-store only. Restrictions apply. See store for details.
URL:https://www.queensmarketplace.com/event/5154/2026-12-26/
ATTACH;FMTTYPE=image/jpeg:https://www.queensmarketplace.com/wp-content/uploads/Core-Digital.jpg
END:VEVENT
BEGIN:VEVENT
DTSTART;VALUE=DATE:20261227
DTEND;VALUE=DATE:20261228
DTSTAMP:20260420T161629
CREATED:20260415T025054Z
LAST-MODIFIED:20260415T025223Z
UID:10005027-1798329600-1798415999@www.queensmarketplace.com
SUMMARY:Sunglass Hut - Customer Week
DESCRIPTION:Join Sunglass Hut at Queens’ Marketplace for Customer Week\, featuring exclusive savings and perks for Sun Club members! \nEnjoy 25% off select full-price styles and receive a FREE Care Kit with purchase. Not a member yet? Sign up in-store for free and unlock access to this special offer. \nDon’t miss this limited-time opportunity to refresh your look with the season’s must-have shades. \nOffers valid in-store only. Restrictions apply. See store for details.
URL:https://www.queensmarketplace.com/event/5154/2026-12-27/
ATTACH;FMTTYPE=image/jpeg:https://www.queensmarketplace.com/wp-content/uploads/Core-Digital.jpg
END:VEVENT
BEGIN:VEVENT
DTSTART;VALUE=DATE:20261228
DTEND;VALUE=DATE:20261229
DTSTAMP:20260420T161629
CREATED:20260415T025054Z
LAST-MODIFIED:20260415T025223Z
UID:10005028-1798416000-1798502399@www.queensmarketplace.com
SUMMARY:Sunglass Hut - Customer Week
DESCRIPTION:Join Sunglass Hut at Queens’ Marketplace for Customer Week\, featuring exclusive savings and perks for Sun Club members! \nEnjoy 25% off select full-price styles and receive a FREE Care Kit with purchase. Not a member yet? Sign up in-store for free and unlock access to this special offer. \nDon’t miss this limited-time opportunity to refresh your look with the season’s must-have shades. \nOffers valid in-store only. Restrictions apply. See store for details.
URL:https://www.queensmarketplace.com/event/5154/2026-12-28/
ATTACH;FMTTYPE=image/jpeg:https://www.queensmarketplace.com/wp-content/uploads/Core-Digital.jpg
END:VEVENT
BEGIN:VEVENT
DTSTART;TZID=Pacific/Honolulu:20261228T180000
DTEND;TZID=Pacific/Honolulu:20261228T190000
DTSTAMP:20260420T161629
CREATED:20251201T213340Z
LAST-MODIFIED:20251201T213340Z
UID:10003221-1798480800-1798484400@www.queensmarketplace.com
SUMMARY:Hula Show
DESCRIPTION:Enjoy a beautiful free performance at the Coronation Pavilion\, featuring both kahiko (traditional) and modern hula. Hula narrates Hawaii’s story through the graceful movements of skilled dancers. Experience this intricate ancient art of dance and chant up close and personal in a comfortable outdoor setting. \nMondays | 6 PM | Coronation Pavilion
URL:https://www.queensmarketplace.com/event/hula-show-2-2-2/2026-12-28/
ATTACH;FMTTYPE=image/jpeg:https://www.queensmarketplace.com/wp-content/uploads/SPStudio_0039.jpg
END:VEVENT
BEGIN:VEVENT
DTSTART;VALUE=DATE:20261229
DTEND;VALUE=DATE:20261230
DTSTAMP:20260420T161629
CREATED:20260415T025054Z
LAST-MODIFIED:20260415T025223Z
UID:10005029-1798502400-1798588799@www.queensmarketplace.com
SUMMARY:Sunglass Hut - Customer Week
DESCRIPTION:Join Sunglass Hut at Queens’ Marketplace for Customer Week\, featuring exclusive savings and perks for Sun Club members! \nEnjoy 25% off select full-price styles and receive a FREE Care Kit with purchase. Not a member yet? Sign up in-store for free and unlock access to this special offer. \nDon’t miss this limited-time opportunity to refresh your look with the season’s must-have shades. \nOffers valid in-store only. Restrictions apply. See store for details.
URL:https://www.queensmarketplace.com/event/5154/2026-12-29/
ATTACH;FMTTYPE=image/jpeg:https://www.queensmarketplace.com/wp-content/uploads/Core-Digital.jpg
END:VEVENT
BEGIN:VEVENT
DTSTART;VALUE=DATE:20261230
DTEND;VALUE=DATE:20261231
DTSTAMP:20260420T161629
CREATED:20260415T025054Z
LAST-MODIFIED:20260415T025223Z
UID:10005030-1798588800-1798675199@www.queensmarketplace.com
SUMMARY:Sunglass Hut - Customer Week
DESCRIPTION:Join Sunglass Hut at Queens’ Marketplace for Customer Week\, featuring exclusive savings and perks for Sun Club members! \nEnjoy 25% off select full-price styles and receive a FREE Care Kit with purchase. Not a member yet? Sign up in-store for free and unlock access to this special offer. \nDon’t miss this limited-time opportunity to refresh your look with the season’s must-have shades. \nOffers valid in-store only. Restrictions apply. See store for details.
URL:https://www.queensmarketplace.com/event/5154/2026-12-30/
ATTACH;FMTTYPE=image/jpeg:https://www.queensmarketplace.com/wp-content/uploads/Core-Digital.jpg
END:VEVENT
BEGIN:VEVENT
DTSTART;TZID=Pacific/Honolulu:20261230T180000
DTEND;TZID=Pacific/Honolulu:20261230T190000
DTSTAMP:20260420T161629
CREATED:20260120T220122Z
LAST-MODIFIED:20260120T220123Z
UID:10004764-1798653600-1798657200@www.queensmarketplace.com
SUMMARY:Ukulele Lesson
DESCRIPTION:Learn how to play the ukulele in this fun and engaging music experience. Classes are instructed by 3x Nā Hōkū Hanohano award winning artist\, Kris Fuchigami. Ukuleles and sheet music will be provided on a first come\, first serve basis to the first 9 persons\, or feel free to bring your own ukulele! \nWeekly | 6 PM | Coronation Pavilion
URL:https://www.queensmarketplace.com/event/ukulele-lessons-2-4/2026-12-30/
ATTACH;FMTTYPE=image/jpeg:https://www.queensmarketplace.com/wp-content/uploads/Ukulele.jpg
END:VEVENT
BEGIN:VEVENT
DTSTART;VALUE=DATE:20261231
DTEND;VALUE=DATE:20270101
DTSTAMP:20260420T161629
CREATED:20260415T025054Z
LAST-MODIFIED:20260415T025223Z
UID:10005031-1798675200-1798761599@www.queensmarketplace.com
SUMMARY:Sunglass Hut - Customer Week
DESCRIPTION:Join Sunglass Hut at Queens’ Marketplace for Customer Week\, featuring exclusive savings and perks for Sun Club members! \nEnjoy 25% off select full-price styles and receive a FREE Care Kit with purchase. Not a member yet? Sign up in-store for free and unlock access to this special offer. \nDon’t miss this limited-time opportunity to refresh your look with the season’s must-have shades. \nOffers valid in-store only. Restrictions apply. See store for details.
URL:https://www.queensmarketplace.com/event/5154/2026-12-31/
ATTACH;FMTTYPE=image/jpeg:https://www.queensmarketplace.com/wp-content/uploads/Core-Digital.jpg
END:VEVENT
BEGIN:VEVENT
DTSTART;VALUE=DATE:20270101
DTEND;VALUE=DATE:20270102
DTSTAMP:20260420T161629
CREATED:20260415T025054Z
LAST-MODIFIED:20260415T025223Z
UID:10005032-1798761600-1798847999@www.queensmarketplace.com
SUMMARY:Sunglass Hut - Customer Week
DESCRIPTION:Join Sunglass Hut at Queens’ Marketplace for Customer Week\, featuring exclusive savings and perks for Sun Club members! \nEnjoy 25% off select full-price styles and receive a FREE Care Kit with purchase. Not a member yet? Sign up in-store for free and unlock access to this special offer. \nDon’t miss this limited-time opportunity to refresh your look with the season’s must-have shades. \nOffers valid in-store only. Restrictions apply. See store for details.
URL:https://www.queensmarketplace.com/event/5154/2027-01-01/
ATTACH;FMTTYPE=image/jpeg:https://www.queensmarketplace.com/wp-content/uploads/Core-Digital.jpg
END:VEVENT
END:VCALENDAR