BEGIN:VCALENDAR
VERSION:2.0
PRODID:-//Queens&#039; Marketplace - ECPv6.15.15//NONSGML v1.0//EN
CALSCALE:GREGORIAN
METHOD:PUBLISH
X-WR-CALNAME:Queens&#039; Marketplace
X-ORIGINAL-URL:https://www.queensmarketplace.com
X-WR-CALDESC:Events for Queens&#039; Marketplace
REFRESH-INTERVAL;VALUE=DURATION:PT1H
X-Robots-Tag:noindex
X-PUBLISHED-TTL:PT1H
BEGIN:VTIMEZONE
TZID:Pacific/Honolulu
BEGIN:STANDARD
TZOFFSETFROM:-1000
TZOFFSETTO:-1000
TZNAME:HST
DTSTART:20250101T000000
END:STANDARD
END:VTIMEZONE
BEGIN:VEVENT
DTSTART;VALUE=DATE:20260420
DTEND;VALUE=DATE:20260421
DTSTAMP:20260420T015401
CREATED:20260415T025054Z
LAST-MODIFIED:20260415T025223Z
UID:10004776-1776643200-1776729599@www.queensmarketplace.com
SUMMARY:Sunglass Hut - Customer Week
DESCRIPTION:Join Sunglass Hut at Queens’ Marketplace for Customer Week\, featuring exclusive savings and perks for Sun Club members! \nEnjoy 25% off select full-price styles and receive a FREE Care Kit with purchase. Not a member yet? Sign up in-store for free and unlock access to this special offer. \nDon’t miss this limited-time opportunity to refresh your look with the season’s must-have shades. \nOffers valid in-store only. Restrictions apply. See store for details.
URL:https://www.queensmarketplace.com/event/5154/2026-04-20/
ATTACH;FMTTYPE=image/jpeg:https://www.queensmarketplace.com/wp-content/uploads/Core-Digital.jpg
END:VEVENT
BEGIN:VEVENT
DTSTART;TZID=Pacific/Honolulu:20260420T180000
DTEND;TZID=Pacific/Honolulu:20260420T190000
DTSTAMP:20260420T015401
CREATED:20251201T213340Z
LAST-MODIFIED:20251201T213340Z
UID:10003185-1776708000-1776711600@www.queensmarketplace.com
SUMMARY:Hula Show
DESCRIPTION:Enjoy a beautiful free performance at the Coronation Pavilion\, featuring both kahiko (traditional) and modern hula. Hula narrates Hawaii’s story through the graceful movements of skilled dancers. Experience this intricate ancient art of dance and chant up close and personal in a comfortable outdoor setting. \nMondays | 6 PM | Coronation Pavilion
URL:https://www.queensmarketplace.com/event/hula-show-2-2-2/2026-04-20/
ATTACH;FMTTYPE=image/jpeg:https://www.queensmarketplace.com/wp-content/uploads/SPStudio_0039.jpg
END:VEVENT
END:VCALENDAR